BEGIN:VCALENDAR
VERSION:2.0
PRODID:-//Events | FID-Recht//NONSGML Events//EN
CALSCALE:GREGORIAN
X-ORIGINAL-URL:https://events.intrecht.de/termine/
X-WR-CALDESC:Events | FID-Recht - Events
BEGIN:VEVENT
UID:20200603T1418Z-1591193923.3362-EO-587-1@172.16.200.141
STATUS:CONFIRMED
DTSTAMP:20260423T003223Z
CREATED:20250310T142534Z
LAST-MODIFIED:20250310T142534Z
DTSTART;VALUE=DATE:20250627
DTEND;VALUE=DATE:20250629
SUMMARY: Forschungsnetzwerk „Klasse und Recht“ (Kolloquium)
DESCRIPTION: 27.-28.6.2025 / Frankfurt am Main (Einreichungsfrist: 1.4.2025
 ) https://www.juwiss.de/wp-content/uploads/2025/03/cfp_rechtundklasseismus.
 pdf
X-ALT-DESC;FMTTYPE=text/html: <p>27.-28.6.2025 / Frankfurt am Main <strong>
 (Einreichungsfrist: 1.4.2025)</strong></p><p><a href="https://www.juwiss.de
 /wp-content/uploads/2025/03/cfp_rechtundklasseismus.pdf">https://www.juwiss
 .de/wp-content/uploads/2025/03/cfp_rechtundklasseismus.pdf</a></p><p>[av_bu
 tton label='iCal-Export' link='./feed/eo-events' link_target='' size='small
 ' position='center' label_display='' title_attr='' icon_select='yes' icon='
 ue85b' font='entypo-fontello' color='custom' custom_bg='#b5123e' custom_fon
 t='#ffffff' av_uid='' id='' custom_class='' admin_preview_bg='']</p>
CATEGORIES:Recht interdisziplinär
LOCATION:Inland
GEO:0.000000;0.000000
ORGANIZER;CN="ViFa-Recht":MAILTO:vifa-recht@sbb.spk-berlin.de
URL;VALUE=URI:https://events.intrecht.de/termine/termin/forschungsnetzwerk-
 klasse-und-recht-kolloquium/
END:VEVENT
BEGIN:VTIMEZONE
TZID:Europe/Berlin
BEGIN:DAYLIGHT
TZOFFSETFROM:+0100
TZOFFSETTO:+0200
DTSTART:20250330T010000
TZNAME:CEST
END:DAYLIGHT
END:VTIMEZONE
END:VCALENDAR
