BEGIN:VCALENDAR
VERSION:2.0
PRODID:-//Events | FID-Recht//NONSGML Events//EN
CALSCALE:GREGORIAN
X-ORIGINAL-URL:https://events.intrecht.de/termine/
X-WR-CALDESC:Events | FID-Recht - Events
BEGIN:VEVENT
UID:20200603T1418Z-1591193923.3362-EO-587-1@172.16.200.141
STATUS:CONFIRMED
DTSTAMP:20260425T201128Z
CREATED:20230710T101917Z
LAST-MODIFIED:20230710T102229Z
DTSTART;VALUE=DATE:20231006
DTEND;VALUE=DATE:20231008
SUMMARY: Forschungskolloquium Junger Arbeitskreis Recht und Politik
DESCRIPTION: 6.-7.10.2023 / Frankfurt am Main (Frist für Einreichungen: 13.
 8.2023) https://www.juwiss.de/wp-content/uploads/2023/07/call-for-participa
 tion_frankfurt-2023.pdf
X-ALT-DESC;FMTTYPE=text/html: <p>6.-7.10.2023 / Frankfurt am Main <strong>(
 Frist für Einreichungen: 13.8.2023)</strong></p><p><a href="https://www.juw
 iss.de/wp-content/uploads/2023/07/call-for-participation_frankfurt-2023.pdf
 ">https://www.juwiss.de/wp-content/uploads/2023/07/call-for-participation_f
 rankfurt-2023.pdf</a></p><p>[av_button label='iCal-Export' link='./feed/eo-
 events' link_target='' size='small' position='center' label_display='' titl
 e_attr='' icon_select='yes' icon='ue85b' font='entypo-fontello' color='cust
 om' custom_bg='#b5123e' custom_font='#ffffff' av_uid='' id='' custom_class=
 '' admin_preview_bg='']</p>
CATEGORIES:Recht interdisziplinär
LOCATION:Inland
GEO:0.000000;0.000000
ORGANIZER;CN="ViFa-Recht":MAILTO:vifa-recht@sbb.spk-berlin.de
URL;VALUE=URI:https://events.intrecht.de/termine/termin/forschungskolloquiu
 m-junger-arbeitskreis-recht-und-politik/
END:VEVENT
BEGIN:VTIMEZONE
TZID:Europe/Berlin
BEGIN:DAYLIGHT
TZOFFSETFROM:+0100
TZOFFSETTO:+0200
DTSTART:20230326T010000
TZNAME:CEST
END:DAYLIGHT
END:VTIMEZONE
END:VCALENDAR
