BEGIN:VCALENDAR
VERSION:2.0
PRODID:-//Events | FID-Recht//NONSGML Events//EN
CALSCALE:GREGORIAN
X-ORIGINAL-URL:https://events.intrecht.de/termine/
X-WR-CALDESC:Events | FID-Recht - Events
BEGIN:VEVENT
UID:20201217T0111Z-1608167509.2692-EO-2449-1@172.16.200.141
STATUS:CONFIRMED
DTSTAMP:20260425T164740Z
CREATED:20201120T200511Z
LAST-MODIFIED:20201120T200511Z
DTSTART;TZID=Europe/Berlin:20201130T150000
DTEND;TZID=Europe/Berlin:20201130T163000
SUMMARY: Formation und formative years der Vereinigten Ostindischen Compagn
 ie der Niederlande (mit Matthias Pendl) (Online-Vortrag)
DESCRIPTION: 30.11.2020\, Online https://www.mpipriv.de/events/26600/876696
   
X-ALT-DESC;FMTTYPE=text/html: <p>30.11.2020\, Online</p><p><a href="https:/
 /www.mpipriv.de/events/26600/876696">https://www.mpipriv.de/events/26600/87
 6696</a></p><p> </p><p>[av_button label='iCal-Export' link='./feed/eo-event
 s' link_target='' size='small' position='center' label_display='' title_att
 r='' icon_select='yes' icon='ue85b' font='entypo-fontello' color='custom' c
 ustom_bg='#b5123e' custom_font='#ffffff' av_uid='' id='' custom_class='' ad
 min_preview_bg='']</p>
CATEGORIES:Zivilrecht
LOCATION:Online
GEO:0.000000;0.000000
ORGANIZER;CN="ViFa-Recht":MAILTO:vifa-recht@sbb.spk-berlin.de
URL;VALUE=URI:https://events.intrecht.de/termine/termin/formation-und-forma
 tive-years-der-vereinigten-ostindischen-compagnie-der-niederlande-mit-matth
 ias-pendl-online-vortrag/
END:VEVENT
BEGIN:VTIMEZONE
TZID:Europe/Berlin
BEGIN:STANDARD
TZOFFSETFROM:+0200
TZOFFSETTO:+0100
DTSTART:20201025T010000
TZNAME:CET
END:STANDARD
END:VTIMEZONE
END:VCALENDAR
