BEGIN:VCALENDAR
VERSION:2.0
PRODID:-//Events | FID-Recht//NONSGML Events//EN
CALSCALE:GREGORIAN
X-ORIGINAL-URL:https://events.intrecht.de/termine/
X-WR-CALDESC:Events | FID-Recht - Events
BEGIN:VEVENT
UID:20210131T2307Z-1612134443.0094-EO-3238-1@172.16.200.141
STATUS:CONFIRMED
DTSTAMP:20260421T151820Z
CREATED:20210126T125245Z
LAST-MODIFIED:20210126T125245Z
DTSTART;VALUE=DATE:20210127
DTEND;VALUE=DATE:20210127
SUMMARY: Form\, Function and Historical Development of Usūl al-fiqh as a Ge
 nre (mit Prof. Dr. Murteza Bedir) (Online-Vortrag
DESCRIPTION: 27.1.2021\, Online https://www.uni-muenster.de/Rektorat/exec/t
 ermine.php?layout=toptermin-detail&id=30744&einrichtungsid=203  
X-ALT-DESC;FMTTYPE=text/html: <p>27.1.2021\, Online</p><p><a href="https://
 www.uni-muenster.de/Rektorat/exec/termine.php?layout=toptermin-detail&id=30
 744&einrichtungsid=203">https://www.uni-muenster.de/Rektorat/exec/termine.p
 hp?layout=toptermin-detail&id=30744&einrichtungsid=203</a></p><p> </p><p>[a
 v_button label='iCal-Export' link='./feed/eo-events' link_target='' size='s
 mall' position='center' label_display='' title_attr='' icon_select='yes' ic
 on='ue85b' font='entypo-fontello' color='custom' custom_bg='#b5123e' custom
 _font='#ffffff' av_uid='' id='' custom_class='' admin_preview_bg='']</p>
CATEGORIES:Recht interdisziplinär
LOCATION:Online
GEO:0.000000;0.000000
ORGANIZER;CN="ViFa-Recht":MAILTO:vifa-recht@sbb.spk-berlin.de
URL;VALUE=URI:https://events.intrecht.de/termine/termin/form-function-and-h
 istorical-development-of-usul-al-fiqh-as-a-genre-mit-prof-dr-murteza-bedir-
 online-vortrag/
END:VEVENT
BEGIN:VTIMEZONE
TZID:Europe/Berlin
BEGIN:STANDARD
TZOFFSETFROM:+0200
TZOFFSETTO:+0100
DTSTART:20201025T010000
TZNAME:CET
END:STANDARD
END:VTIMEZONE
END:VCALENDAR
