BEGIN:VCALENDAR
VERSION:2.0
PRODID:-//Events | FID-Recht//NONSGML Events//EN
CALSCALE:GREGORIAN
X-ORIGINAL-URL:https://events.intrecht.de/termine/
X-WR-CALDESC:Events | FID-Recht - Events
BEGIN:VEVENT
UID:20200603T1418Z-1591193923.3362-EO-587-1@172.16.200.141
STATUS:CONFIRMED
DTSTAMP:20260425T164900Z
CREATED:20230424T123802Z
LAST-MODIFIED:20230424T123802Z
DTSTART;VALUE=DATE:20240208
DTEND;VALUE=DATE:20240210
SUMMARY: Forensics of Provenance: Colonial Translocations through the Lense
 s of Legal Pluralism (International Workshop)
DESCRIPTION: 8.-9.2.2024 / Münster (Frist für Einreichungen: 15.7.2023) htt
 ps://www.uni-muenster.de/imperia/md/content/EViR/callforpapers_forensics_of
 _provenance.pdf
X-ALT-DESC;FMTTYPE=text/html: <p>8.-9.2.2024 / Münster <strong>(Frist für E
 inreichungen: 15.7.2023)</strong></p><p><a href="https://www.uni-muenster.d
 e/imperia/md/content/EViR/callforpapers_forensics_of_provenance.pdf">https:
 //www.uni-muenster.de/imperia/md/content/EViR/callforpapers_forensics_of_pr
 ovenance.pdf</a></p><p>[av_button label='iCal-Export' link='./feed/eo-event
 s' link_target='' size='small' position='center' label_display='' title_att
 r='' icon_select='yes' icon='ue85b' font='entypo-fontello' color='custom' c
 ustom_bg='#b5123e' custom_font='#ffffff' av_uid='' id='' custom_class='' ad
 min_preview_bg='']</p>
CATEGORIES:Recht interdisziplinär
LOCATION:Inland
GEO:0.000000;0.000000
ORGANIZER;CN="ViFa-Recht":MAILTO:vifa-recht@sbb.spk-berlin.de
URL;VALUE=URI:https://events.intrecht.de/termine/termin/forensics-of-proven
 ance-colonial-translocations-through-the-lenses-of-legal-pluralism-internat
 ional-workshop/
END:VEVENT
BEGIN:VTIMEZONE
TZID:Europe/Berlin
BEGIN:STANDARD
TZOFFSETFROM:+0200
TZOFFSETTO:+0100
DTSTART:20231029T010000
TZNAME:CET
END:STANDARD
END:VTIMEZONE
END:VCALENDAR
