BEGIN:VCALENDAR
VERSION:2.0
PRODID:-//Events | FID-Recht//NONSGML Events//EN
CALSCALE:GREGORIAN
X-ORIGINAL-URL:https://events.intrecht.de/termine/
X-WR-CALDESC:Events | FID-Recht - Events
BEGIN:VEVENT
UID:20230324T1530Z-1679671833.6793-EO-8212-1@172.16.200.151
STATUS:CONFIRMED
DTSTAMP:20260425T234737Z
CREATED:20230131T153442Z
LAST-MODIFIED:20230131T153624Z
DTSTART;VALUE=DATE:20230213
DTEND;VALUE=DATE:20230218
SUMMARY: Foreign national prisoners in transfer\, procedural justice and cr
 immigration / Ausländische Gefangene in Überstellung\, Verfahrensrecht und 
 Krimmigration (Hybride Tagung)
DESCRIPTION: 13.-17.2.2023 / Online via Webex und Dortmund https://strafvol
 lzugsarchiv.de/Veranstaltung/foreign-national-prisoners-in-transfer-procedu
 ral-justice-and-crimmigration-auslaendische-gefangene-in-ueberstellung-verf
 ahrensrecht-und-krimmigration?instance_id=21  
X-ALT-DESC;FMTTYPE=text/html: <p>13.-17.2.2023 / Online via Webex und Dortm
 und</p><p><a href="https://strafvollzugsarchiv.de/Veranstaltung/foreign-nat
 ional-prisoners-in-transfer-procedural-justice-and-crimmigration-auslaendis
 che-gefangene-in-ueberstellung-verfahrensrecht-und-krimmigration?instance_i
 d=21">https://strafvollzugsarchiv.de/Veranstaltung/foreign-national-prisone
 rs-in-transfer-procedural-justice-and-crimmigration-auslaendische-gefangene
 -in-ueberstellung-verfahrensrecht-und-krimmigration?instance_id=21</a></p><
 p> </p><p>[av_button label='iCal-Export' link='./feed/eo-events' link_targe
 t='' size='small' position='center' label_display='' title_attr='' icon_sel
 ect='yes' icon='ue85b' font='entypo-fontello' color='custom' custom_bg='#b5
 123e' custom_font='#ffffff' av_uid='' id='' custom_class='' admin_preview_b
 g='']</p>
CATEGORIES:Strafrecht
LOCATION:Online
GEO:0.000000;0.000000
ORGANIZER;CN="ViFa-Recht":MAILTO:vifa-recht@sbb.spk-berlin.de
URL;VALUE=URI:https://events.intrecht.de/termine/termin/foreign-national-pr
 isoners-in-transfer-procedural-justice-and-crimmigration-auslaendische-gefa
 ngene-in-ueberstellung-verfahrensrecht-und-krimmigration-hybride-tagung/
END:VEVENT
BEGIN:VTIMEZONE
TZID:Europe/Berlin
BEGIN:STANDARD
TZOFFSETFROM:+0200
TZOFFSETTO:+0100
DTSTART:20221030T010000
TZNAME:CET
END:STANDARD
END:VTIMEZONE
END:VCALENDAR
