BEGIN:VCALENDAR
VERSION:2.0
PRODID:-//Events | FID-Recht//NONSGML Events//EN
CALSCALE:GREGORIAN
X-ORIGINAL-URL:https://events.intrecht.de/termine/
X-WR-CALDESC:Events | FID-Recht - Events
BEGIN:VEVENT
UID:20200603T1418Z-1591193923.3362-EO-587-1@172.16.200.141
STATUS:CONFIRMED
DTSTAMP:20260422T154424Z
CREATED:20240508T065919Z
LAST-MODIFIED:20240508T065919Z
DTSTART;VALUE=DATE:20241010
DTEND;VALUE=DATE:20241013
SUMMARY: For Every Child: Protecting Children’s Rights in Armed Conflict (H
 ybrid Event / Nuremberg Forum 2024)
DESCRIPTION: 10.-12.10.2024 / Online und Nürnberg https://www.nurembergacad
 emy.org/events/detail/5dbb7db1eb9f0f430874b90cc0795c05/nuremberg-forum-2024
 -for-every-child-protecting-children-s-rights-in-armed-conflict-845/
X-ALT-DESC;FMTTYPE=text/html: <p>10.-12.10.2024 / Online und Nürnberg</p><p
 ><a href="https://www.nurembergacademy.org/events/detail/5dbb7db1eb9f0f4308
 74b90cc0795c05/nuremberg-forum-2024-for-every-child-protecting-children-s-r
 ights-in-armed-conflict-845/">https://www.nurembergacademy.org/events/detai
 l/5dbb7db1eb9f0f430874b90cc0795c05/nuremberg-forum-2024-for-every-child-pro
 tecting-children-s-rights-in-armed-conflict-845/</a></p><p>[av_button label
 ='iCal-Export' link='./feed/eo-events' link_target='' size='small' position
 ='center' label_display='' title_attr='' icon_select='yes' icon='ue85b' fon
 t='entypo-fontello' color='custom' custom_bg='#b5123e' custom_font='#ffffff
 ' av_uid='' id='' custom_class='' admin_preview_bg='']</p>
CATEGORIES:Europäisches / Internationales Recht
LOCATION:Hybrid
GEO:0.000000;0.000000
ORGANIZER;CN="ViFa-Recht":MAILTO:vifa-recht@sbb.spk-berlin.de
URL;VALUE=URI:https://events.intrecht.de/termine/termin/for-every-child-pro
 tecting-childrens-rights-in-armed-conflict-hybrid-event-nuremberg-forum-202
 4/
END:VEVENT
BEGIN:VTIMEZONE
TZID:Europe/Berlin
BEGIN:DAYLIGHT
TZOFFSETFROM:+0100
TZOFFSETTO:+0200
DTSTART:20240331T010000
TZNAME:CEST
END:DAYLIGHT
END:VTIMEZONE
END:VCALENDAR
