BEGIN:VCALENDAR
VERSION:2.0
PRODID:-//Events | FID-Recht//NONSGML Events//EN
CALSCALE:GREGORIAN
X-ORIGINAL-URL:https://events.intrecht.de/termine/
X-WR-CALDESC:Events | FID-Recht - Events
BEGIN:VEVENT
UID:20211104T1246Z-1636029997.1677-EO-5059-1@172.16.200.141
STATUS:CONFIRMED
DTSTAMP:20260422T175350Z
CREATED:20211102T095248Z
LAST-MODIFIED:20211102T095304Z
DTSTART;VALUE=DATE:20211130
DTEND;VALUE=DATE:20211201
SUMMARY: For a European history of commercial Law (Summer School) (CfA)
DESCRIPTION: 29.6.-1.7.2022\, Castelnau-Magnoac (Bewerbungsfrist: 30.11.202
 1) https://forhistiur.net/news/2021-10-14-phedra-pour-une-histoire-europeen
 ne-du-droit-des-affaires-for-a-european-history-of-commercial-law/  
X-ALT-DESC;FMTTYPE=text/html: <p>29.6.-1.7.2022\, Castelnau-Magnoac (Bewerb
 ungsfrist: 30.11.2021)</p><p><a href="https://forhistiur.net/news/2021-10-1
 4-phedra-pour-une-histoire-europeenne-du-droit-des-affaires-for-a-european-
 history-of-commercial-law/">https://forhistiur.net/news/2021-10-14-phedra-p
 our-une-histoire-europeenne-du-droit-des-affaires-for-a-european-history-of
 -commercial-law/</a></p><p> </p><p>[av_button label='iCal-Export' link='./f
 eed/eo-events' link_target='' size='small' position='center' label_display=
 '' title_attr='' icon_select='yes' icon='ue85b' font='entypo-fontello' colo
 r='custom' custom_bg='#b5123e' custom_font='#ffffff' av_uid='' id='' custom
 _class='' admin_preview_bg='']</p>
CATEGORIES:Recht interdisziplinär,Zivilrecht
LOCATION:Ausland
GEO:0.000000;0.000000
ORGANIZER;CN="ViFa-Recht":MAILTO:vifa-recht@sbb.spk-berlin.de
URL;VALUE=URI:https://events.intrecht.de/termine/termin/for-a-european-hist
 ory-of-commercial-law-summer-school-2/
END:VEVENT
BEGIN:VTIMEZONE
TZID:Europe/Berlin
BEGIN:STANDARD
TZOFFSETFROM:+0200
TZOFFSETTO:+0100
DTSTART:20211031T010000
TZNAME:CET
END:STANDARD
END:VTIMEZONE
END:VCALENDAR
