BEGIN:VCALENDAR
VERSION:2.0
PRODID:-//Events | FID-Recht//NONSGML Events//EN
CALSCALE:GREGORIAN
X-ORIGINAL-URL:https://events.intrecht.de/termine/
X-WR-CALDESC:Events | FID-Recht - Events
BEGIN:VEVENT
UID:20220610T0433Z-1654835597.9814-EO-4077-1@172.16.200.151
STATUS:CONFIRMED
DTSTAMP:20260421T102717Z
CREATED:20220608T092534Z
LAST-MODIFIED:20220608T092534Z
DTSTART;VALUE=DATE:20220615
DTEND;VALUE=DATE:20220615
SUMMARY: Food\, Hunger\, and International Law (with Eymir Albal) (Online-V
 ortrag)
DESCRIPTION: 15.6.2022\, Online Völkerrechtliche Tagesthemen: Food\, Hunger
  and International Law — Walther-Schücking-Institut für Internationales Rec
 ht (WSI) (uni-kiel.de)  
X-ALT-DESC;FMTTYPE=text/html: <p>15.6.2022\, Online</p><p><a href="https://
 www.wsi.uni-kiel.de/de/veranstaltungen/voelkerrechtliche-tagesthemen/voelke
 rrechtliche-tagesthemen-food-hunger-and-international-law">Völkerrechtliche
  Tagesthemen: Food\, Hunger and International Law — Walther-Schücking-Insti
 tut für Internationales Recht (WSI) (uni-kiel.de)</a></p><p> </p><p>[av_but
 ton label='iCal-Export' link='./feed/eo-events' link_target='' size='small'
  position='center' label_display='' title_attr='' icon_select='yes' icon='u
 e85b' font='entypo-fontello' color='custom' custom_bg='#b5123e' custom_font
 ='#ffffff' av_uid='' id='' custom_class='' admin_preview_bg='']</p>
CATEGORIES:Europäisches / Internationales Recht
LOCATION:Online
GEO:0.000000;0.000000
ORGANIZER;CN="ViFa-Recht":MAILTO:vifa-recht@sbb.spk-berlin.de
URL;VALUE=URI:https://events.intrecht.de/termine/termin/food-hunger-and-int
 ernational-law-with-eymir-albal-online-vortrag/
END:VEVENT
BEGIN:VTIMEZONE
TZID:Europe/Berlin
BEGIN:DAYLIGHT
TZOFFSETFROM:+0100
TZOFFSETTO:+0200
DTSTART:20220327T010000
TZNAME:CEST
END:DAYLIGHT
END:VTIMEZONE
END:VCALENDAR
