BEGIN:VCALENDAR
VERSION:2.0
PRODID:-//Events | FID-Recht//NONSGML Events//EN
CALSCALE:GREGORIAN
X-ORIGINAL-URL:https://events.intrecht.de/termine/
X-WR-CALDESC:Events | FID-Recht - Events
BEGIN:VEVENT
UID:20220119T0359Z-1642564791.4535-EO-5685-1@172.16.200.141
STATUS:CONFIRMED
DTSTAMP:20260425T212122Z
CREATED:20220114T182856Z
LAST-MODIFIED:20220114T182856Z
DTSTART;VALUE=DATE:20220609
DTEND;VALUE=DATE:20220611
SUMMARY: Follow the money? – Die europäische Integration im Spiegel der Fin
 anzverfassung (Tagung)
DESCRIPTION: 9.-10.6.2022\, Berlin Follow the Money — DynamInt (hu-berlin.d
 e)  
X-ALT-DESC;FMTTYPE=text/html: <p>9.-10.6.2022\, Berlin</p><p><a href="https
 ://www.rewi.hu-berlin.de/de/lf/oe/rhp/veranstaltungen/follow-the-money">Fol
 low the Money — DynamInt (hu-berlin.de)</a></p><p> </p><p>[av_button label=
 'iCal-Export' link='./feed/eo-events' link_target='' size='small' position=
 'center' label_display='' title_attr='' icon_select='yes' icon='ue85b' font
 ='entypo-fontello' color='custom' custom_bg='#b5123e' custom_font='#ffffff'
  av_uid='' id='' custom_class='' admin_preview_bg='']</p>
CATEGORIES:Europäisches / Internationales Recht,Recht interdisziplinär
LOCATION:Inland
GEO:0.000000;0.000000
ORGANIZER;CN="ViFa-Recht":MAILTO:vifa-recht@sbb.spk-berlin.de
URL;VALUE=URI:https://events.intrecht.de/termine/termin/follow-the-money-di
 e-europaeische-integration-im-spiegel-der-finanzverfassung-tagung/
END:VEVENT
BEGIN:VTIMEZONE
TZID:Europe/Berlin
BEGIN:DAYLIGHT
TZOFFSETFROM:+0100
TZOFFSETTO:+0200
DTSTART:20220327T010000
TZNAME:CEST
END:DAYLIGHT
END:VTIMEZONE
END:VCALENDAR
