BEGIN:VCALENDAR
VERSION:2.0
PRODID:-//Events | FID-Recht//NONSGML Events//EN
CALSCALE:GREGORIAN
X-ORIGINAL-URL:https://events.intrecht.de/termine/
X-WR-CALDESC:Events | FID-Recht - Events
BEGIN:VEVENT
UID:20201021T0153Z-1603245189.9247-EO-1783-1@172.16.200.141
STATUS:CONFIRMED
DTSTAMP:20260421T184205Z
CREATED:20201012T143821Z
LAST-MODIFIED:20201012T144155Z
DTSTART;VALUE=DATE:20201012
DTEND;VALUE=DATE:20201012
SUMMARY: Fluid Jurisdictions: Colonial Law and Arabs in Southeast Asia (wit
 h Nurfadzilah Yahaya\, NUS) (Webinar/Book launch)
DESCRIPTION: 12.10.2020\, Online https://twitter.com/RestlessMafalda/status
 /1308241680051499008/photo/1  
X-ALT-DESC;FMTTYPE=text/html: <p>12.10.2020\, Online</p><p><a href="https:/
 /twitter.com/RestlessMafalda/status/1308241680051499008/photo/1">https://tw
 itter.com/RestlessMafalda/status/1308241680051499008/photo/1</a></p><p> </p
 ><p>[av_button label='iCal-Export' link='./feed/eo-events' link_target='' s
 ize='small' position='center' label_display='' title_attr='' icon_select='y
 es' icon='ue85b' font='entypo-fontello' color='custom' custom_bg='#b5123e' 
 custom_font='#ffffff' av_uid='' id='' custom_class='' admin_preview_bg='']<
 /p>
CATEGORIES:Europäisches / Internationales Recht,Recht interdisziplinär
LOCATION:Online
GEO:0.000000;0.000000
ORGANIZER;CN="ViFa-Recht":MAILTO:vifa-recht@sbb.spk-berlin.de
URL;VALUE=URI:https://events.intrecht.de/termine/termin/fluid-jurisdictions
 -colonial-law-and-arabs-in-southeast-asia-with-nurfadzilah-yahaya-nus-webin
 ar-book-launch/
END:VEVENT
BEGIN:VTIMEZONE
TZID:Europe/Berlin
BEGIN:DAYLIGHT
TZOFFSETFROM:+0100
TZOFFSETTO:+0200
DTSTART:20200329T010000
TZNAME:CEST
END:DAYLIGHT
END:VTIMEZONE
END:VCALENDAR
