BEGIN:VCALENDAR
VERSION:2.0
PRODID:-//Events | FID-Recht//NONSGML Events//EN
CALSCALE:GREGORIAN
X-ORIGINAL-URL:https://events.intrecht.de/termine/
X-WR-CALDESC:Events | FID-Recht - Events
BEGIN:VEVENT
UID:20210917T1758Z-1631901538.9917-EO-4624-1@172.16.200.141
STATUS:CONFIRMED
DTSTAMP:20260421T115536Z
CREATED:20210914T172225Z
LAST-MODIFIED:20210914T172225Z
DTSTART;VALUE=DATE:20210930
DTEND;VALUE=DATE:20211002
SUMMARY: Flucht vor Recht – Flucht ins Recht? Empirisch-interdisziplinäre A
 sylrechtsforschung am Schauplatz Gericht (Workshop)
DESCRIPTION: 30.9.-1.10.2021\, Berlin Details: DVPW – Deutsche Vereinigung 
 für Politikwissenschaft  
X-ALT-DESC;FMTTYPE=text/html: <p>30.9.-1.10.2021\, Berlin</p><p><a href="ht
 tps://www.dvpw.de/informationen/termine/details?tx_bcacademicevents_events%
 5Baction%5D=show&tx_bcacademicevents_events%5Bcontroller%5D=Event&tx_bcacad
 emicevents_events%5Bevent%5D=741%7D&cHash=ba7f3435c06077c4e2d0f087f181a9e6"
 >Details: DVPW - Deutsche Vereinigung für Politikwissenschaft</a></p><p> </
 p><p>[av_button label='iCal-Export' link='./feed/eo-events' link_target='' 
 size='small' position='center' label_display='' title_attr='' icon_select='
 yes' icon='ue85b' font='entypo-fontello' color='custom' custom_bg='#b5123e'
  custom_font='#ffffff' av_uid='' id='' custom_class='' admin_preview_bg='']
 </p>
CATEGORIES:Recht interdisziplinär
LOCATION:Inland
GEO:0.000000;0.000000
ORGANIZER;CN="ViFa-Recht":MAILTO:vifa-recht@sbb.spk-berlin.de
URL;VALUE=URI:https://events.intrecht.de/termine/termin/flucht-vor-recht-fl
 ucht-ins-recht-empirisch-interdisziplinaere-asylrechtsforschung-am-schaupla
 tz-gericht-workshop/
END:VEVENT
BEGIN:VTIMEZONE
TZID:Europe/Berlin
BEGIN:DAYLIGHT
TZOFFSETFROM:+0100
TZOFFSETTO:+0200
DTSTART:20210328T010000
TZNAME:CEST
END:DAYLIGHT
END:VTIMEZONE
END:VCALENDAR
