BEGIN:VCALENDAR
VERSION:2.0
PRODID:-//Events | FID-Recht//NONSGML Events//EN
CALSCALE:GREGORIAN
X-ORIGINAL-URL:https://events.intrecht.de/termine/
X-WR-CALDESC:Events | FID-Recht - Events
BEGIN:VEVENT
UID:20221001T2013Z-1664655181.5912-EO-6367-1@172.16.200.151
STATUS:CONFIRMED
DTSTAMP:20260421T102418Z
CREATED:20220929T080420Z
LAST-MODIFIED:20220929T080420Z
DTSTART;VALUE=DATE:20221003
DTEND;VALUE=DATE:20221004
SUMMARY: Flucht und Migration am Beispiel Fritz Bauers (Workshop)
DESCRIPTION: 3.10.2022\, Frankfurt am Main https://www.bpb.de/pift2022/rahm
 enprogramm/510912/flucht-und-migration-am-beispiel-fritz-bauers/  
X-ALT-DESC;FMTTYPE=text/html: <p>3.10.2022\, Frankfurt am Main</p><p><a hre
 f="https://www.bpb.de/pift2022/rahmenprogramm/510912/flucht-und-migration-a
 m-beispiel-fritz-bauers/">https://www.bpb.de/pift2022/rahmenprogramm/510912
 /flucht-und-migration-am-beispiel-fritz-bauers/</a></p><p> </p><p>[av_butto
 n label='iCal-Export' link='./feed/eo-events' link_target='' size='small' p
 osition='center' label_display='' title_attr='' icon_select='yes' icon='ue8
 5b' font='entypo-fontello' color='custom' custom_bg='#b5123e' custom_font='
 #ffffff' av_uid='' id='' custom_class='' admin_preview_bg='']</p>
CATEGORIES:Recht interdisziplinär
LOCATION:Inland
GEO:0.000000;0.000000
ORGANIZER;CN="ViFa-Recht":MAILTO:vifa-recht@sbb.spk-berlin.de
URL;VALUE=URI:https://events.intrecht.de/termine/termin/flucht-und-migratio
 n-am-beispiel-fritz-bauers-workshop/
END:VEVENT
BEGIN:VTIMEZONE
TZID:Europe/Berlin
BEGIN:DAYLIGHT
TZOFFSETFROM:+0100
TZOFFSETTO:+0200
DTSTART:20220327T010000
TZNAME:CEST
END:DAYLIGHT
END:VTIMEZONE
END:VCALENDAR
