BEGIN:VCALENDAR
VERSION:2.0
PRODID:-//Events | FID-Recht//NONSGML Events//EN
CALSCALE:GREGORIAN
X-ORIGINAL-URL:https://events.intrecht.de/termine/
X-WR-CALDESC:Events | FID-Recht - Events
BEGIN:VEVENT
UID:20200709T1346Z-1594302418.1094-EO-1180-1@172.16.200.141
STATUS:CONFIRMED
DTSTAMP:20260421T133346Z
CREATED:20200708T174638Z
LAST-MODIFIED:20200708T174638Z
DTSTART;VALUE=DATE:20200709
DTEND;VALUE=DATE:20200711
SUMMARY: Flight\, Governance\, Human Rights (Workshop)
DESCRIPTION: 9.-10.7.2020\, Online https://www.humanrights-centre.fau.eu/20
 20/05/29/workshop-flucht-governance-menschenrechte/  
X-ALT-DESC;FMTTYPE=text/html: <p>9.-10.7.2020\, Online</p><p><a href="https
 ://www.humanrights-centre.fau.eu/2020/05/29/workshop-flucht-governance-mens
 chenrechte/">https://www.humanrights-centre.fau.eu/2020/05/29/workshop-fluc
 ht-governance-menschenrechte/</a></p><p> </p><p>[av_button label='iCal-Expo
 rt' link='./feed/eo-events' link_target='' size='small' position='center' l
 abel_display='' title_attr='' icon_select='yes' icon='ue85b' font='entypo-f
 ontello' color='custom' custom_bg='#b5123e' custom_font='#ffffff' av_uid=''
  id='' custom_class='' admin_preview_bg='']</p>
CATEGORIES:Öffentliches Recht
ORGANIZER;CN="ViFa-Recht":MAILTO:vifa-recht@sbb.spk-berlin.de
URL;VALUE=URI:https://events.intrecht.de/termine/termin/flight-governance-h
 uman-rights-workshop/
END:VEVENT
BEGIN:VTIMEZONE
TZID:Europe/Berlin
BEGIN:DAYLIGHT
TZOFFSETFROM:+0100
TZOFFSETTO:+0200
DTSTART:20200329T010000
TZNAME:CEST
END:DAYLIGHT
END:VTIMEZONE
END:VCALENDAR
