BEGIN:VCALENDAR
VERSION:2.0
PRODID:-//Events | FID-Recht//NONSGML Events//EN
CALSCALE:GREGORIAN
X-ORIGINAL-URL:https://events.intrecht.de/termine/
X-WR-CALDESC:Events | FID-Recht - Events
BEGIN:VEVENT
UID:20211117T2040Z-1637181642.3674-EO-5210-1@172.16.200.141
STATUS:CONFIRMED
DTSTAMP:20260422T160856Z
CREATED:20211116T233735Z
LAST-MODIFIED:20211116T233735Z
DTSTART;VALUE=DATE:20211124
DTEND;VALUE=DATE:20211125
SUMMARY: Fission in Troubled Waters – Australia and the Indo-Pacific Arms R
 ace (mit Moritz von Rochow) (Online-Vortrag)
DESCRIPTION: 24.11.2021\, Online Willkommen und Termine — Walther-Schücking
 -Institut für Internationales Recht (WSI) (uni-kiel.de)  
X-ALT-DESC;FMTTYPE=text/html: <p>24.11.2021\, Online</p><p><a href="https:/
 /www.wsi.uni-kiel.de/de/veranstaltungen/voelkerrechtliche-tagesthemen">Will
 kommen und Termine — Walther-Schücking-Institut für Internationales Recht (
 WSI) (uni-kiel.de)</a></p><p> </p><p>[av_button label='iCal-Export' link='.
 /feed/eo-events' link_target='' size='small' position='center' label_displa
 y='' title_attr='' icon_select='yes' icon='ue85b' font='entypo-fontello' co
 lor='custom' custom_bg='#b5123e' custom_font='#ffffff' av_uid='' id='' cust
 om_class='' admin_preview_bg='']</p>
CATEGORIES:Europäisches / Internationales Recht
LOCATION:Online
GEO:0.000000;0.000000
ORGANIZER;CN="ViFa-Recht":MAILTO:vifa-recht@sbb.spk-berlin.de
URL;VALUE=URI:https://events.intrecht.de/termine/termin/fission-in-troubled
 -waters-australia-and-the-indo-pacific-arms-race-mit-moritz-von-rochow-onli
 ne-vortrag-2/
END:VEVENT
BEGIN:VTIMEZONE
TZID:Europe/Berlin
BEGIN:STANDARD
TZOFFSETFROM:+0200
TZOFFSETTO:+0100
DTSTART:20211031T010000
TZNAME:CET
END:STANDARD
END:VTIMEZONE
END:VCALENDAR
