BEGIN:VCALENDAR
VERSION:2.0
PRODID:-//Events | FID-Recht//NONSGML Events//EN
CALSCALE:GREGORIAN
X-ORIGINAL-URL:https://events.intrecht.de/termine/
X-WR-CALDESC:Events | FID-Recht - Events
BEGIN:VEVENT
UID:20210303T2335Z-1614814506.3203-EO-3452-1@172.16.200.141
STATUS:CONFIRMED
DTSTAMP:20260421T171445Z
CREATED:20210219T133031Z
LAST-MODIFIED:20210219T133031Z
DTSTART;VALUE=DATE:20210226
DTEND;VALUE=DATE:20210226
SUMMARY: First women lawyers – A pan-European struggle (mit Lena Foljanty) 
 (Online-Vortrag)
DESCRIPTION: 26.2.2021\, Online https://www.rg.mpg.de/2453880/event-21-02-2
 6-first-women-lawyers.html  
X-ALT-DESC;FMTTYPE=text/html: <p>26.2.2021\, Online</p><p><a href="https://
 www.rg.mpg.de/2453880/event-21-02-26-first-women-lawyers.html">https://www.
 rg.mpg.de/2453880/event-21-02-26-first-women-lawyers.html</a></p><p> </p><p
 >[av_button label='iCal-Export' link='./feed/eo-events' link_target='' size
 ='small' position='center' label_display='' title_attr='' icon_select='yes'
  icon='ue85b' font='entypo-fontello' color='custom' custom_bg='#b5123e' cus
 tom_font='#ffffff' av_uid='' id='' custom_class='' admin_preview_bg='']</p>
CATEGORIES:Recht interdisziplinär
LOCATION:Online
GEO:0.000000;0.000000
ORGANIZER;CN="ViFa-Recht":MAILTO:vifa-recht@sbb.spk-berlin.de
URL;VALUE=URI:https://events.intrecht.de/termine/termin/first-women-lawyers
 -a-pan-european-struggle-mit-lena-foljanty-online-vortrag/
END:VEVENT
BEGIN:VTIMEZONE
TZID:Europe/Berlin
BEGIN:STANDARD
TZOFFSETFROM:+0200
TZOFFSETTO:+0100
DTSTART:20201025T010000
TZNAME:CET
END:STANDARD
END:VTIMEZONE
END:VCALENDAR
