BEGIN:VCALENDAR
VERSION:2.0
PRODID:-//Events | FID-Recht//NONSGML Events//EN
CALSCALE:GREGORIAN
X-ORIGINAL-URL:https://events.intrecht.de/termine/
X-WR-CALDESC:Events | FID-Recht - Events
BEGIN:VEVENT
UID:20200603T1418Z-1591193923.3362-EO-587-1@172.16.200.141
STATUS:CONFIRMED
DTSTAMP:20260422T154315Z
CREATED:20240529T103514Z
LAST-MODIFIED:20240529T103514Z
DTSTART;VALUE=DATE:20240930
DTEND;VALUE=DATE:20241003
SUMMARY: First Freiburg PhD-Workshop on the Economics of Criminal Behavior
DESCRIPTION: 30.9.- 2.10.2024 / Freiburg (Einreichungsfrist: 15.7.2024) htt
 ps://csl.mpg.de/654172/first-freiburg-phd-workshop-on-the-economics-of-crim
 inal-behavior.html
X-ALT-DESC;FMTTYPE=text/html: <p>30.9.- 2.10.2024 / Freiburg <strong>(Einre
 ichungsfrist: 15.7.2024)</strong></p><p><a href="https://csl.mpg.de/654172/
 first-freiburg-phd-workshop-on-the-economics-of-criminal-behavior.html">htt
 ps://csl.mpg.de/654172/first-freiburg-phd-workshop-on-the-economics-of-crim
 inal-behavior.html</a></p><p>[av_button label='iCal-Export' link='./feed/eo
 -events' link_target='' size='small' position='center' label_display='' tit
 le_attr='' icon_select='yes' icon='ue85b' font='entypo-fontello' color='cus
 tom' custom_bg='#b5123e' custom_font='#ffffff' av_uid='' id='' custom_class
 ='' admin_preview_bg='']</p>
CATEGORIES:Strafrecht
LOCATION:Inland
GEO:0.000000;0.000000
ORGANIZER;CN="ViFa-Recht":MAILTO:vifa-recht@sbb.spk-berlin.de
URL;VALUE=URI:https://events.intrecht.de/termine/termin/first-freiburg-phd-
 workshop-on-the-economics-of-criminal-behavior/
END:VEVENT
BEGIN:VTIMEZONE
TZID:Europe/Berlin
BEGIN:DAYLIGHT
TZOFFSETFROM:+0100
TZOFFSETTO:+0200
DTSTART:20240331T010000
TZNAME:CEST
END:DAYLIGHT
END:VTIMEZONE
END:VCALENDAR
