BEGIN:VCALENDAR
VERSION:2.0
PRODID:-//Events | FID-Recht//NONSGML Events//EN
CALSCALE:GREGORIAN
X-ORIGINAL-URL:https://events.intrecht.de/termine/
X-WR-CALDESC:Events | FID-Recht - Events
BEGIN:VEVENT
UID:20200603T1418Z-1591193923.3362-EO-587-1@172.16.200.141
STATUS:CONFIRMED
DTSTAMP:20260422T141411Z
CREATED:20230815T085031Z
LAST-MODIFIED:20230815T085031Z
DTSTART;VALUE=DATE:20240221
DTEND;VALUE=DATE:20240224
SUMMARY: First Annual Critical Legal Geography Conference
DESCRIPTION: 21.-23.2.2024 / Turin (Frist für Einreichungen: 15.10.2023) ht
 tps://mcusercontent.com/47624183ad52dd8428c97d3f6/files/f97aa501-e602-ce23-
 4ed2-1d6efcbc846c/978_3_031_31994_5.pdf
X-ALT-DESC;FMTTYPE=text/html: <p>21.-23.2.2024 / Turin <strong>(Frist für E
 inreichungen: 15.10.2023)</strong></p><p><a href="https://mcusercontent.com
 /47624183ad52dd8428c97d3f6/files/f97aa501-e602-ce23-4ed2-1d6efcbc846c/978_3
 _031_31994_5.pdf">https://mcusercontent.com/47624183ad52dd8428c97d3f6/files
 /f97aa501-e602-ce23-4ed2-1d6efcbc846c/978_3_031_31994_5.pdf</a></p><p>[av_b
 utton label='iCal-Export' link='./feed/eo-events' link_target='' size='smal
 l' position='center' label_display='' title_attr='' icon_select='yes' icon=
 'ue85b' font='entypo-fontello' color='custom' custom_bg='#b5123e' custom_fo
 nt='#ffffff' av_uid='' id='' custom_class='' admin_preview_bg='']</p>
CATEGORIES:Recht interdisziplinär
LOCATION:Ausland
GEO:0.000000;0.000000
ORGANIZER;CN="ViFa-Recht":MAILTO:vifa-recht@sbb.spk-berlin.de
URL;VALUE=URI:https://events.intrecht.de/termine/termin/first-annual-critic
 al-legal-geography-conference/
END:VEVENT
BEGIN:VTIMEZONE
TZID:Europe/Berlin
BEGIN:STANDARD
TZOFFSETFROM:+0200
TZOFFSETTO:+0100
DTSTART:20231029T010000
TZNAME:CET
END:STANDARD
END:VTIMEZONE
END:VCALENDAR
