BEGIN:VCALENDAR
VERSION:2.0
PRODID:-//Events | FID-Recht//NONSGML Events//EN
CALSCALE:GREGORIAN
X-ORIGINAL-URL:https://events.intrecht.de/termine/
X-WR-CALDESC:Events | FID-Recht - Events
BEGIN:VEVENT
UID:20200603T1418Z-1591193923.3362-EO-587-1@172.16.200.141
STATUS:CONFIRMED
DTSTAMP:20260423T083437Z
CREATED:20230320T093826Z
LAST-MODIFIED:20230320T093826Z
DTSTART;VALUE=DATE:20230324
DTEND;VALUE=DATE:20230325
SUMMARY: Fireside Talk: International Law Praxis – On the practice of inter
 national law in courts
DESCRIPTION: 24.3.2023 / Livestream on YouTube und London https://www.event
 brite.co.uk/e/fireside-talk-international-law-praxis-tickets-543856207557
X-ALT-DESC;FMTTYPE=text/html: <p>24.3.2023 / Livestream on YouTube und Lond
 on</p><p><a href="https://www.eventbrite.co.uk/e/fireside-talk-internationa
 l-law-praxis-tickets-543856207557">https://www.eventbrite.co.uk/e/fireside-
 talk-international-law-praxis-tickets-543856207557</a></p><p>[av_button lab
 el='iCal-Export' link='./feed/eo-events' link_target='' size='small' positi
 on='center' label_display='' title_attr='' icon_select='yes' icon='ue85b' f
 ont='entypo-fontello' color='custom' custom_bg='#b5123e' custom_font='#ffff
 ff' av_uid='' id='' custom_class='' admin_preview_bg='']</p>
CATEGORIES:Europäisches / Internationales Recht
LOCATION:Online
GEO:0.000000;0.000000
ORGANIZER;CN="ViFa-Recht":MAILTO:vifa-recht@sbb.spk-berlin.de
URL;VALUE=URI:https://events.intrecht.de/termine/termin/fireside-talk-inter
 national-law-praxis-on-the-practice-of-international-law-in-courts/
END:VEVENT
BEGIN:VTIMEZONE
TZID:Europe/Berlin
BEGIN:STANDARD
TZOFFSETFROM:+0200
TZOFFSETTO:+0100
DTSTART:20221030T010000
TZNAME:CET
END:STANDARD
END:VTIMEZONE
END:VCALENDAR
