BEGIN:VCALENDAR
VERSION:2.0
PRODID:-//Events | FID-Recht//NONSGML Events//EN
CALSCALE:GREGORIAN
X-ORIGINAL-URL:https://events.intrecht.de/termine/
X-WR-CALDESC:Events | FID-Recht - Events
BEGIN:VEVENT
UID:20220914T0910Z-1663146602.433-EO-6070-1@172.16.200.151
STATUS:CONFIRMED
DTSTAMP:20260422T213346Z
CREATED:20220912T140441Z
LAST-MODIFIED:20220912T140522Z
DTSTART;VALUE=DATE:20220922
DTEND;VALUE=DATE:20220923
SUMMARY: Fireside chat with the honourable Mahmud Jamal Justice of the Supr
 eme Court of Canada (Vortrag)
DESCRIPTION: 22.9.2022\, Montreal https://www.mcgill.ca/law/channels/event/
 fireside-chat-honourable-mahmud-jamal-justice-supreme-court-canada-341581  
X-ALT-DESC;FMTTYPE=text/html: <p>22.9.2022\, Montreal</p><p><a href="https:
 //www.mcgill.ca/law/channels/event/fireside-chat-honourable-mahmud-jamal-ju
 stice-supreme-court-canada-341581">https://www.mcgill.ca/law/channels/event
 /fireside-chat-honourable-mahmud-jamal-justice-supreme-court-canada-341581<
 /a></p><p> </p><p>[av_button label='iCal-Export' link='./feed/eo-events' li
 nk_target='' size='small' position='center' label_display='' title_attr='' 
 icon_select='yes' icon='ue85b' font='entypo-fontello' color='custom' custom
 _bg='#b5123e' custom_font='#ffffff' av_uid='' id='' custom_class='' admin_p
 review_bg='']</p>
CATEGORIES:Europäisches / Internationales Recht
LOCATION:Ausland
GEO:0.000000;0.000000
ORGANIZER;CN="ViFa-Recht":MAILTO:vifa-recht@sbb.spk-berlin.de
URL;VALUE=URI:https://events.intrecht.de/termine/termin/fireside-chat-with-
 the-honourable-mahmud-jamal-justice-of-the-supreme-court-of-canada-vortrag/
END:VEVENT
BEGIN:VTIMEZONE
TZID:Europe/Berlin
BEGIN:DAYLIGHT
TZOFFSETFROM:+0100
TZOFFSETTO:+0200
DTSTART:20220327T010000
TZNAME:CEST
END:DAYLIGHT
END:VTIMEZONE
END:VCALENDAR
