BEGIN:VCALENDAR
VERSION:2.0
PRODID:-//Events | FID-Recht//NONSGML Events//EN
CALSCALE:GREGORIAN
X-ORIGINAL-URL:https://events.intrecht.de/termine/
X-WR-CALDESC:Events | FID-Recht - Events
BEGIN:VEVENT
UID:20220611T0224Z-1654914280.8054-EO-4054-1@172.16.200.151
STATUS:CONFIRMED
DTSTAMP:20260421T102546Z
CREATED:20220609T172329Z
LAST-MODIFIED:20220609T172329Z
DTSTART;VALUE=DATE:20220617
DTEND;VALUE=DATE:20220617
SUMMARY: Financializing the non-financial firm (with Katharina Pistor) ((On
 line-)Vortrag)
DESCRIPTION: 17.6.2022\, London/Online An Institutional Theory of the Firm 
 | Systemic Risk Centre  
X-ALT-DESC;FMTTYPE=text/html: <p>17.6.2022\, London/Online</p><p><a href="h
 ttps://www.systemicrisk.ac.uk/events/institutional-theory-firm">An Institut
 ional Theory of the Firm | Systemic Risk Centre</a></p><p> </p><p>[av_butto
 n label='iCal-Export' link='./feed/eo-events' link_target='' size='small' p
 osition='center' label_display='' title_attr='' icon_select='yes' icon='ue8
 5b' font='entypo-fontello' color='custom' custom_bg='#b5123e' custom_font='
 #ffffff' av_uid='' id='' custom_class='' admin_preview_bg='']</p>
CATEGORIES:Recht interdisziplinär
LOCATION:Online
GEO:0.000000;0.000000
ORGANIZER;CN="ViFa-Recht":MAILTO:vifa-recht@sbb.spk-berlin.de
URL;VALUE=URI:https://events.intrecht.de/termine/termin/financializing-the-
 non-financial-firm-with-katharina-pistor-online-vortrag/
END:VEVENT
BEGIN:VTIMEZONE
TZID:Europe/Berlin
BEGIN:DAYLIGHT
TZOFFSETFROM:+0100
TZOFFSETTO:+0200
DTSTART:20220327T010000
TZNAME:CEST
END:DAYLIGHT
END:VTIMEZONE
END:VCALENDAR
