BEGIN:VCALENDAR
VERSION:2.0
PRODID:-//Events | FID-Recht//NONSGML Events//EN
CALSCALE:GREGORIAN
X-ORIGINAL-URL:https://events.intrecht.de/termine/
X-WR-CALDESC:Events | FID-Recht - Events
BEGIN:VEVENT
UID:20211206T0800Z-1638777606.4254-EO-4981-1@172.16.200.141
STATUS:CONFIRMED
DTSTAMP:20260422T111905Z
CREATED:20211126T224838Z
LAST-MODIFIED:20211126T224845Z
DTSTART;VALUE=DATE:20211203
DTEND;VALUE=DATE:20211204
SUMMARY: Fictions in Law\, Literature\, and Philosophy – Concept\, Function
 \, Development ((Online-)Workshop
DESCRIPTION: 3.12.2021\, Münster/Online Calendar (uni-muenster.de)  
X-ALT-DESC;FMTTYPE=text/html: <p>3.12.2021\, Münster/Online</p><p><a href="
 https://www.uni-muenster.de/de/veranstaltungskalender/prod/ausgabe/termine.
 php?layout=topterminenglish-detail&id=32337&einrichtungsid=203&language=en"
 >Calendar (uni-muenster.de)</a></p><p> </p><p>[av_button label='iCal-Export
 ' link='./feed/eo-events' link_target='' size='small' position='center' lab
 el_display='' title_attr='' icon_select='yes' icon='ue85b' font='entypo-fon
 tello' color='custom' custom_bg='#b5123e' custom_font='#ffffff' av_uid='' i
 d='' custom_class='' admin_preview_bg='']</p>
CATEGORIES:Recht interdisziplinär
LOCATION:Online
GEO:0.000000;0.000000
ORGANIZER;CN="ViFa-Recht":MAILTO:vifa-recht@sbb.spk-berlin.de
URL;VALUE=URI:https://events.intrecht.de/termine/termin/fictions-in-law-lit
 erature-and-philosophy-concept-function-development-online-workshop/
END:VEVENT
BEGIN:VTIMEZONE
TZID:Europe/Berlin
BEGIN:STANDARD
TZOFFSETFROM:+0200
TZOFFSETTO:+0100
DTSTART:20211031T010000
TZNAME:CET
END:STANDARD
END:VTIMEZONE
END:VCALENDAR
