BEGIN:VCALENDAR
VERSION:2.0
PRODID:-//Events | FID-Recht//NONSGML Events//EN
CALSCALE:GREGORIAN
X-ORIGINAL-URL:https://events.intrecht.de/termine/
X-WR-CALDESC:Events | FID-Recht - Events
BEGIN:VEVENT
UID:20200603T1418Z-1591193923.3362-EO-587-1@172.16.200.141
STATUS:CONFIRMED
DTSTAMP:20260423T003432Z
CREATED:20250507T100814Z
LAST-MODIFIED:20250507T100814Z
DTSTART;VALUE=DATE:20250519
DTEND;VALUE=DATE:20250522
SUMMARY: Feuerbach250. Theorie und Dogmatik\, Kriminologie und Kriminalpoli
 tik\, Geschichte und Rezeption (Tagung)
DESCRIPTION: 19.-21.5.2025 / Jena https://www.rewi.uni-jena.de/12628/feuerb
 ach250
X-ALT-DESC;FMTTYPE=text/html: <p>19.-21.5.2025 / Jena</p><p><a href="https:
 //www.rewi.uni-jena.de/12628/feuerbach250">https://www.rewi.uni-jena.de/126
 28/feuerbach250</a></p><p>[av_button label='iCal-Export' link='./feed/eo-ev
 ents' link_target='' size='small' position='center' label_display='' title_
 attr='' icon_select='yes' icon='ue85b' font='entypo-fontello' color='custom
 ' custom_bg='#b5123e' custom_font='#ffffff' av_uid='' id='' custom_class=''
  admin_preview_bg='']</p>
CATEGORIES:Recht interdisziplinär
LOCATION:Inland
GEO:0.000000;0.000000
ORGANIZER;CN="ViFa-Recht":MAILTO:vifa-recht@sbb.spk-berlin.de
URL;VALUE=URI:https://events.intrecht.de/termine/termin/feuerbach250-theori
 e-und-dogmatik-kriminologie-und-kriminalpolitik-geschichte-und-rezeption-ta
 gung/
END:VEVENT
BEGIN:VTIMEZONE
TZID:Europe/Berlin
BEGIN:DAYLIGHT
TZOFFSETFROM:+0100
TZOFFSETTO:+0200
DTSTART:20250330T010000
TZNAME:CEST
END:DAYLIGHT
END:VTIMEZONE
END:VCALENDAR
