BEGIN:VCALENDAR
VERSION:2.0
PRODID:-//Events | FID-Recht//NONSGML Events//EN
CALSCALE:GREGORIAN
X-ORIGINAL-URL:https://events.intrecht.de/termine/
X-WR-CALDESC:Events | FID-Recht - Events
BEGIN:VEVENT
UID:20200623T1900Z-1592938857.2653-EO-858-1@172.16.200.141
STATUS:CONFIRMED
DTSTAMP:20260422T194021Z
CREATED:20200604T130549Z
LAST-MODIFIED:20200604T130658Z
DTSTART;VALUE=DATE:20210507
DTEND;VALUE=DATE:20210510
SUMMARY: Feministischer Juristinnentag
DESCRIPTION: 7.-9.5.2021\, Leipzig https://www.feministischer-juristinnenta
 g.de/fjt-2020.html
X-ALT-DESC;FMTTYPE=text/html: <p><span style="display: inline !important\; 
 float: none\; background-color: #ffffff\; color: #242424\; font-family: 'Op
 en Sans'\,sans-serif\; font-size: 16px\; font-style: normal\; font-variant:
  normal\; font-weight: 400\; letter-spacing: normal\; orphans: 2\; text-ali
 gn: left\; text-decoration: none\; text-indent: 0px\; text-transform: none\
 ; -webkit-text-stroke-width: 0px\; white-space: normal\; word-spacing: 0px\
 ;"> 7.-9.5.2021\, Leipzig</span></p><p><a href="https://www.feministischer-
 juristinnentag.de/fjt-2020.html">https://www.feministischer-juristinnentag.
 de/fjt-2020.html</a></p><p>[av_button label='iCal-Export' link='./feed/eo-e
 vents' link_target='' size='small' position='center' label_display='' title
 _attr='' icon_select='yes' icon='ue85b' font='entypo-fontello' color='custo
 m' custom_bg='#b5123e' custom_font='#ffffff' av_uid='' id='' custom_class='
 ' admin_preview_bg='']</p>
CATEGORIES:Recht interdisziplinär
LOCATION:Inland
GEO:0.000000;0.000000
ORGANIZER;CN="ViFa-Recht":MAILTO:vifa-recht@sbb.spk-berlin.de
URL;VALUE=URI:https://events.intrecht.de/termine/termin/feministischer-juri
 stinnentag/
END:VEVENT
BEGIN:VTIMEZONE
TZID:Europe/Berlin
BEGIN:DAYLIGHT
TZOFFSETFROM:+0100
TZOFFSETTO:+0200
DTSTART:20210328T010000
TZNAME:CEST
END:DAYLIGHT
END:VTIMEZONE
END:VCALENDAR
