BEGIN:VCALENDAR
VERSION:2.0
PRODID:-//Events | FID-Recht//NONSGML Events//EN
CALSCALE:GREGORIAN
X-ORIGINAL-URL:https://events.intrecht.de/termine/
X-WR-CALDESC:Events | FID-Recht - Events
BEGIN:VEVENT
UID:20200603T1418Z-1591193923.3362-EO-587-1@172.16.200.141
STATUS:CONFIRMED
DTSTAMP:20260425T183117Z
CREATED:20250707T142748Z
LAST-MODIFIED:20250707T142748Z
DTSTART;VALUE=DATE:20251031
DTEND;VALUE=DATE:20251101
SUMMARY: Feminist Approaches to International Law in Times of Atrocity\, An
 thropocene\, and Authoritarian Capitalism (ANZSIL Gender\, Sexuality and In
 ternational Law Workshop)
DESCRIPTION: 31.10.2025 / Melbourne (Einreichungsfrist: 1.8.2025) https://d
 rive.google.com/file/d/10YPsdiXr-XRcRilrRYlX22_FWcU0tceg/view
X-ALT-DESC;FMTTYPE=text/html: <p>31.10.2025 / Melbourne (<strong>Einreichun
 gsfrist: 1.8.2025)</strong></p><p><a href="https://drive.google.com/file/d/
 10YPsdiXr-XRcRilrRYlX22_FWcU0tceg/view">https://drive.google.com/file/d/10Y
 PsdiXr-XRcRilrRYlX22_FWcU0tceg/view</a></p><p>[av_button label='iCal-Export
 ' link='./feed/eo-events' link_target='' size='small' position='center' lab
 el_display='' title_attr='' icon_select='yes' icon='ue85b' font='entypo-fon
 tello' color='custom' custom_bg='#b5123e' custom_font='#ffffff' av_uid='' i
 d='' custom_class='' admin_preview_bg='']</p>
CATEGORIES:Recht interdisziplinär
LOCATION:Ausland
GEO:0.000000;0.000000
ORGANIZER;CN="ViFa-Recht":MAILTO:vifa-recht@sbb.spk-berlin.de
URL;VALUE=URI:https://events.intrecht.de/termine/termin/feminist-approaches
 -to-international-law-in-times-of-atrocity-anthropocene-and-authoritarian-c
 apitalism-anzsil-gender-sexuality-and-international-law-workshop/
END:VEVENT
BEGIN:VTIMEZONE
TZID:Europe/Berlin
BEGIN:STANDARD
TZOFFSETFROM:+0200
TZOFFSETTO:+0100
DTSTART:20251026T010000
TZNAME:CET
END:STANDARD
END:VTIMEZONE
END:VCALENDAR
