BEGIN:VCALENDAR
VERSION:2.0
PRODID:-//Events | FID-Recht//NONSGML Events//EN
CALSCALE:GREGORIAN
X-ORIGINAL-URL:https://events.intrecht.de/termine/
X-WR-CALDESC:Events | FID-Recht - Events
BEGIN:VEVENT
UID:20200603T1418Z-1591193923.3362-EO-587-1@172.16.200.141
STATUS:CONFIRMED
DTSTAMP:20260425T181141Z
CREATED:20230418T100604Z
LAST-MODIFIED:20230418T100604Z
DTSTART;VALUE=DATE:20230502
DTEND;VALUE=DATE:20230503
SUMMARY: Feminist Approaches in International Law and Foreign Policy (Confe
 rence)
DESCRIPTION: 2.5.2023 / Bochum https://www.ifhv.de/research/projects/ftail-
 ffp
X-ALT-DESC;FMTTYPE=text/html: <p>2.5.2023 / Bochum</p><p><a href="https://w
 ww.ifhv.de/research/projects/ftail-ffp">https://www.ifhv.de/research/projec
 ts/ftail-ffp</a></p><p>[av_button label='iCal-Export' link='./feed/eo-event
 s' link_target='' size='small' position='center' label_display='' title_att
 r='' icon_select='yes' icon='ue85b' font='entypo-fontello' color='custom' c
 ustom_bg='#b5123e' custom_font='#ffffff' av_uid='' id='' custom_class='' ad
 min_preview_bg='']</p>
CATEGORIES:Recht interdisziplinär
LOCATION:Inland
GEO:0.000000;0.000000
ORGANIZER;CN="ViFa-Recht":MAILTO:vifa-recht@sbb.spk-berlin.de
URL;VALUE=URI:https://events.intrecht.de/termine/termin/feminist-approaches
 -in-international-law-and-foreign-policy-conference/
END:VEVENT
BEGIN:VTIMEZONE
TZID:Europe/Berlin
BEGIN:DAYLIGHT
TZOFFSETFROM:+0100
TZOFFSETTO:+0200
DTSTART:20230326T010000
TZNAME:CEST
END:DAYLIGHT
END:VTIMEZONE
END:VCALENDAR
