BEGIN:VCALENDAR
VERSION:2.0
PRODID:-//Events | FID-Recht//NONSGML Events//EN
CALSCALE:GREGORIAN
X-ORIGINAL-URL:https://events.intrecht.de/termine/
X-WR-CALDESC:Events | FID-Recht - Events
BEGIN:VEVENT
UID:20200603T1418Z-1591193923.3362-EO-587-1@172.16.200.141
STATUS:CONFIRMED
DTSTAMP:20260422T225313Z
CREATED:20241212T150931Z
LAST-MODIFIED:20241212T150931Z
DTSTART;VALUE=DATE:20250616
DTEND;VALUE=DATE:20250617
SUMMARY: Family Law in an Age of Political Contestation (International Soci
 ety of Family Law – North American Regional Conference)
DESCRIPTION: 16.6.2025 / Philadelphia (Einreichungsfrist: 1.2.2025) https:/
 /lawprofessors.typepad.com/gender_law/2024/12/cfp-international-society-of-
 family-law-family-law-in-an-age-of-political-contestation.html
X-ALT-DESC;FMTTYPE=text/html: <p>16.6.2025 / Philadelphia <strong>(Einreich
 ungsfrist: 1.2.2025)</strong></p><p><a href="https://lawprofessors.typepad.
 com/gender_law/2024/12/cfp-international-society-of-family-law-family-law-i
 n-an-age-of-political-contestation.html">https://lawprofessors.typepad.com/
 gender_law/2024/12/cfp-international-society-of-family-law-family-law-in-an
 -age-of-political-contestation.html</a></p><p>[av_button label='iCal-Export
 ' link='./feed/eo-events' link_target='' size='small' position='center' lab
 el_display='' title_attr='' icon_select='yes' icon='ue85b' font='entypo-fon
 tello' color='custom' custom_bg='#b5123e' custom_font='#ffffff' av_uid='' i
 d='' custom_class='' admin_preview_bg='']</p>
CATEGORIES:Recht interdisziplinär
LOCATION:Ausland
GEO:0.000000;0.000000
ORGANIZER;CN="ViFa-Recht":MAILTO:vifa-recht@sbb.spk-berlin.de
URL;VALUE=URI:https://events.intrecht.de/termine/termin/family-law-in-an-ag
 e-of-political-contestation-international-society-of-family-law-north-ameri
 can-regional-conference/
END:VEVENT
BEGIN:VTIMEZONE
TZID:Europe/Berlin
BEGIN:DAYLIGHT
TZOFFSETFROM:+0100
TZOFFSETTO:+0200
DTSTART:20250330T010000
TZNAME:CEST
END:DAYLIGHT
END:VTIMEZONE
END:VCALENDAR
