BEGIN:VCALENDAR
VERSION:2.0
PRODID:-//Events | FID-Recht//NONSGML Events//EN
CALSCALE:GREGORIAN
X-ORIGINAL-URL:https://events.intrecht.de/termine/
X-WR-CALDESC:Events | FID-Recht - Events
BEGIN:VEVENT
UID:20200603T1418Z-1591193923.3362-EO-587-1@172.16.200.141
STATUS:CONFIRMED
DTSTAMP:20260423T020131Z
CREATED:20241111T135444Z
LAST-MODIFIED:20241111T135444Z
DTSTART;VALUE=DATE:20250605
DTEND;VALUE=DATE:20250607
SUMMARY: Family Law Early Career Colloquium
DESCRIPTION: 5.-6.6.2025 / Hamburg (Einreichungsfrist: 15.2.2025) https://l
 aw.mpg.de/event/family-law-early-career-colloquium/
X-ALT-DESC;FMTTYPE=text/html: <p>5.-6.6.2025 / Hamburg <strong>(Einreichung
 sfrist: 15.2.2025)</strong></p><p><a href="https://law.mpg.de/event/family-
 law-early-career-colloquium/">https://law.mpg.de/event/family-law-early-car
 eer-colloquium/</a></p><p>[av_button label='iCal-Export' link='./feed/eo-ev
 ents' link_target='' size='small' position='center' label_display='' title_
 attr='' icon_select='yes' icon='ue85b' font='entypo-fontello' color='custom
 ' custom_bg='#b5123e' custom_font='#ffffff' av_uid='' id='' custom_class=''
  admin_preview_bg='']</p>
CATEGORIES:Zivilrecht
LOCATION:Inland
GEO:0.000000;0.000000
ORGANIZER;CN="ViFa-Recht":MAILTO:vifa-recht@sbb.spk-berlin.de
URL;VALUE=URI:https://events.intrecht.de/termine/termin/family-law-early-ca
 reer-colloquium/
END:VEVENT
BEGIN:VTIMEZONE
TZID:Europe/Berlin
BEGIN:DAYLIGHT
TZOFFSETFROM:+0100
TZOFFSETTO:+0200
DTSTART:20250330T010000
TZNAME:CEST
END:DAYLIGHT
END:VTIMEZONE
END:VCALENDAR
