BEGIN:VCALENDAR
VERSION:2.0
PRODID:-//Events | FID-Recht//NONSGML Events//EN
CALSCALE:GREGORIAN
X-ORIGINAL-URL:https://events.intrecht.de/termine/
X-WR-CALDESC:Events | FID-Recht - Events
BEGIN:VEVENT
UID:20200603T1418Z-1591193923.3362-EO-587-1@172.16.200.141
STATUS:CONFIRMED
DTSTAMP:20260421T200941Z
CREATED:20240919T092414Z
LAST-MODIFIED:20240919T092414Z
DTSTART;VALUE=DATE:20240924
DTEND;VALUE=DATE:20240925
SUMMARY: Familienrechtstheorie und Polygynie im irakischen Kurdistan (Vortr
 agsreihe / Family Law At Four)
DESCRIPTION: 24.9.2024 / Hamburg https://events.mpipriv.de/b?p=family_law_a
 t_four_24_09_2024
X-ALT-DESC;FMTTYPE=text/html: <p>24.9.2024 / Hamburg</p><p><a href="https:/
 /events.mpipriv.de/b?p=family_law_at_four_24_09_2024">https://events.mpipri
 v.de/b?p=family_law_at_four_24_09_2024</a></p><p>[av_button label='iCal-Exp
 ort' link='./feed/eo-events' link_target='' size='small' position='center' 
 label_display='' title_attr='' icon_select='yes' icon='ue85b' font='entypo-
 fontello' color='custom' custom_bg='#b5123e' custom_font='#ffffff' av_uid='
 ' id='' custom_class='' admin_preview_bg='']</p>
CATEGORIES:Zivilrecht
LOCATION:Inland
GEO:0.000000;0.000000
ORGANIZER;CN="ViFa-Recht":MAILTO:vifa-recht@sbb.spk-berlin.de
URL;VALUE=URI:https://events.intrecht.de/termine/termin/familienrechtstheor
 ie-und-polygynie-im-irakischen-kurdistan-vortragsreihe-family-law-at-four/
END:VEVENT
BEGIN:VTIMEZONE
TZID:Europe/Berlin
BEGIN:DAYLIGHT
TZOFFSETFROM:+0100
TZOFFSETTO:+0200
DTSTART:20240331T010000
TZNAME:CEST
END:DAYLIGHT
END:VTIMEZONE
END:VCALENDAR
