BEGIN:VCALENDAR
VERSION:2.0
PRODID:-//Events | FID-Recht//NONSGML Events//EN
CALSCALE:GREGORIAN
X-ORIGINAL-URL:https://events.intrecht.de/termine/
X-WR-CALDESC:Events | FID-Recht - Events
BEGIN:VEVENT
UID:20200603T1418Z-1591193923.3362-EO-587-1@172.16.200.141
STATUS:CONFIRMED
DTSTAMP:20260422T175434Z
CREATED:20240523T163811Z
LAST-MODIFIED:20240523T163924Z
DTSTART;VALUE=DATE:20240621
DTEND;VALUE=DATE:20240622
SUMMARY: Familienrechtliche Paradigmen (Jahrestreffen Verein „Freunde des H
 amburger Max-Planck-Instituts für ausländisches und internationales Privatr
 echt e.V.“)
DESCRIPTION: 21.6.2024 / Hamburg https://events.mpipriv.de/Verein_der_Freun
 de
X-ALT-DESC;FMTTYPE=text/html: <p>21.6.2024 / Hamburg</p><p><a href="https:/
 /events.mpipriv.de/Verein_der_Freunde">https://events.mpipriv.de/Verein_der
 _Freunde</a></p><p>[av_button label='iCal-Export' link='./feed/eo-events' l
 ink_target='' size='small' position='center' label_display='' title_attr=''
  icon_select='yes' icon='ue85b' font='entypo-fontello' color='custom' custo
 m_bg='#b5123e' custom_font='#ffffff' av_uid='' id='' custom_class='' admin_
 preview_bg='']</p>
CATEGORIES:Zivilrecht
LOCATION:Inland
GEO:0.000000;0.000000
ORGANIZER;CN="ViFa-Recht":MAILTO:vifa-recht@sbb.spk-berlin.de
URL;VALUE=URI:https://events.intrecht.de/termine/termin/familienrechtliche-
 paradigmen-jahrestreffen-verein-freunde-des-hamburger-max-planck-instituts-
 fuer-auslaendisches-und-internationales-privatrecht-e-v/
END:VEVENT
BEGIN:VTIMEZONE
TZID:Europe/Berlin
BEGIN:DAYLIGHT
TZOFFSETFROM:+0100
TZOFFSETTO:+0200
DTSTART:20240331T010000
TZNAME:CEST
END:DAYLIGHT
END:VTIMEZONE
END:VCALENDAR
