BEGIN:VCALENDAR
VERSION:2.0
PRODID:-//Events | FID-Recht//NONSGML Events//EN
CALSCALE:GREGORIAN
X-ORIGINAL-URL:https://events.intrecht.de/termine/
X-WR-CALDESC:Events | FID-Recht - Events
BEGIN:VEVENT
UID:20200603T1418Z-1591193923.3362-EO-587-1@172.16.200.141
STATUS:CONFIRMED
DTSTAMP:20260423T071634Z
CREATED:20250225T160357Z
LAST-MODIFIED:20250225T160357Z
DTSTART;VALUE=DATE:20250904
DTEND;VALUE=DATE:20250906
SUMMARY: Fairness as a Principle of European Law (Fourth Max Planck Law Con
 ference for Early Career Scholars 2025)
DESCRIPTION: 4.-5.9.2025 / München (Einreichungsfrist: 1.4.2025) https://ww
 w.ip.mpg.de/fileadmin/ipmpg/content/aktuelles/aus_dem_institut/CfP_Fairness
 _as_a_Principle_of_European_Law_2025.pdf
X-ALT-DESC;FMTTYPE=text/html: <p>4.-5.9.2025 / München <strong>(Einreichung
 sfrist: 1.4.2025)</strong></p><p><a href="https://www.ip.mpg.de/fileadmin/i
 pmpg/content/aktuelles/aus_dem_institut/CfP_Fairness_as_a_Principle_of_Euro
 pean_Law_2025.pdf">https://www.ip.mpg.de/fileadmin/ipmpg/content/aktuelles/
 aus_dem_institut/CfP_Fairness_as_a_Principle_of_European_Law_2025.pdf</a></
 p><p>[av_button label='iCal-Export' link='./feed/eo-events' link_target='' 
 size='small' position='center' label_display='' title_attr='' icon_select='
 yes' icon='ue85b' font='entypo-fontello' color='custom' custom_bg='#b5123e'
  custom_font='#ffffff' av_uid='' id='' custom_class='' admin_preview_bg='']
 </p>
CATEGORIES:Europäisches / Internationales Recht
LOCATION:Inland
GEO:0.000000;0.000000
ORGANIZER;CN="ViFa-Recht":MAILTO:vifa-recht@sbb.spk-berlin.de
URL;VALUE=URI:https://events.intrecht.de/termine/termin/fairness-as-a-princ
 iple-of-european-law-fourth-max-planck-law-conference-for-early-career-scho
 lars-2025/
END:VEVENT
BEGIN:VTIMEZONE
TZID:Europe/Berlin
BEGIN:DAYLIGHT
TZOFFSETFROM:+0100
TZOFFSETTO:+0200
DTSTART:20250330T010000
TZNAME:CEST
END:DAYLIGHT
END:VTIMEZONE
END:VCALENDAR
