BEGIN:VCALENDAR
VERSION:2.0
PRODID:-//Events | FID-Recht//NONSGML Events//EN
CALSCALE:GREGORIAN
X-ORIGINAL-URL:https://events.intrecht.de/termine/
X-WR-CALDESC:Events | FID-Recht - Events
BEGIN:VEVENT
UID:20200605T0051Z-1591318316.4254-EO-549-1@172.16.200.141
STATUS:CONFIRMED
DTSTAMP:20260421T102536Z
CREATED:20200515T160948Z
LAST-MODIFIED:20200520T073156Z
DTSTART;VALUE=DATE:20200515
DTEND;VALUE=DATE:20200516
SUMMARY: Exploring the Frontiers of International Law in Cyberspace (Konfer
 enz)
DESCRIPTION: VERSCHOBEN: 15.5.2020\, Krakau – NEUER TERMIN: vorauss. Herbst
  2020 https://zpmp.law.uj.edu.pl/en_GB/esil-symposium  
X-ALT-DESC;FMTTYPE=text/html: <p><strong>VERSCHOBEN:</strong></p><p>15.5.20
 20\, Krakau – NEUER TERMIN: vorauss. Herbst 2020</p><p><a href="https://zpm
 p.law.uj.edu.pl/en_GB/esil-symposium">https://zpmp.law.uj.edu.pl/en_GB/esil
 -symposium</a></p><p> </p><p>[av_button label='iCal-Export' link='./feed/eo
 -events' link_target='' size='small' position='center' label_display='' tit
 le_attr='' icon_select='yes' icon='ue85b' font='entypo-fontello' color='cus
 tom' custom_bg='#b5123e' custom_font='#ffffff' av_uid='' id='' custom_class
 ='' admin_preview_bg='']</p>
CATEGORIES:Europäisches / Internationales Recht,Recht interdisziplinär
LOCATION:Ausland
GEO:0.000000;0.000000
ORGANIZER;CN="ViFa-Recht":MAILTO:vifa-recht@sbb.spk-berlin.de
URL;VALUE=URI:https://events.intrecht.de/termine/termin/exploring-the-front
 iers-of-international-law-in-cyberspace-konferenz/
END:VEVENT
BEGIN:VTIMEZONE
TZID:Europe/Berlin
BEGIN:DAYLIGHT
TZOFFSETFROM:+0100
TZOFFSETTO:+0200
DTSTART:20200329T010000
TZNAME:CEST
END:DAYLIGHT
END:VTIMEZONE
END:VCALENDAR
