BEGIN:VCALENDAR
VERSION:2.0
PRODID:-//Events | FID-Recht//NONSGML Events//EN
CALSCALE:GREGORIAN
X-ORIGINAL-URL:https://events.intrecht.de/termine/
X-WR-CALDESC:Events | FID-Recht - Events
BEGIN:VEVENT
UID:20201217T0317Z-1608175067.6097-EO-2648-1@172.16.200.141
STATUS:CONFIRMED
DTSTAMP:20260422T160529Z
CREATED:20201201T182022Z
LAST-MODIFIED:20201201T182022Z
DTSTART;VALUE=DATE:20201204
DTEND;VALUE=DATE:20201204
SUMMARY: Exploring the Frontiers of International Law in Cyberspace – ESIL 
 Kraków-Leiden Symposium (Online-Symposium)
DESCRIPTION:  4.12.2020\, Online https://zpmp.law.uj.edu.pl/esil-symposium 
  
X-ALT-DESC;FMTTYPE=text/html: <p><strong> </strong>4.12.2020\, Online</p><p
 ><a href="https://zpmp.law.uj.edu.pl/esil-symposium">https://zpmp.law.uj.ed
 u.pl/esil-symposium</a></p><p> </p><p>[av_button label='iCal-Export' link='
 ./feed/eo-events' link_target='' size='small' position='center' label_displ
 ay='' title_attr='' icon_select='yes' icon='ue85b' font='entypo-fontello' c
 olor='custom' custom_bg='#b5123e' custom_font='#ffffff' av_uid='' id='' cus
 tom_class='' admin_preview_bg='']</p>
CATEGORIES:Europäisches / Internationales Recht
LOCATION:Online
GEO:0.000000;0.000000
ORGANIZER;CN="ViFa-Recht":MAILTO:vifa-recht@sbb.spk-berlin.de
URL;VALUE=URI:https://events.intrecht.de/termine/termin/exploring-the-front
 iers-of-international-law-in-cyberspace-esil-krakow-leiden-symposium-online
 -symposium/
END:VEVENT
BEGIN:VTIMEZONE
TZID:Europe/Berlin
BEGIN:STANDARD
TZOFFSETFROM:+0200
TZOFFSETTO:+0100
DTSTART:20201025T010000
TZNAME:CET
END:STANDARD
END:VTIMEZONE
END:VCALENDAR
