BEGIN:VCALENDAR
VERSION:2.0
PRODID:-//Events | FID-Recht//NONSGML Events//EN
CALSCALE:GREGORIAN
X-ORIGINAL-URL:https://events.intrecht.de/termine/
X-WR-CALDESC:Events | FID-Recht - Events
BEGIN:VEVENT
UID:20200603T1418Z-1591193923.3362-EO-587-1@172.16.200.141
STATUS:CONFIRMED
DTSTAMP:20260423T052558Z
CREATED:20250225T160645Z
LAST-MODIFIED:20250225T160859Z
DTSTART;VALUE=DATE:20250612
DTEND;VALUE=DATE:20250614
SUMMARY: Exploring the Autonomy of Cities: Philosophical\, Legal\, and Poli
 cy Dimensions (Workshop)
DESCRIPTION: 12.-13.6.2025 / Paris (Einreichungsfrist: 1.3.2025) https://ww
 w.europeanlawblog.eu/pub/jrc2vcye/release/1
X-ALT-DESC;FMTTYPE=text/html: <p>12.-13.6.2025 / Paris <strong>(Einreichung
 sfrist: 1.3.2025)</strong></p><p><a href="https://www.europeanlawblog.eu/pu
 b/jrc2vcye/release/1">https://www.europeanlawblog.eu/pub/jrc2vcye/release/1
 </a></p><p>[av_button label='iCal-Export' link='./feed/eo-events' link_targ
 et='' size='small' position='center' label_display='' title_attr='' icon_se
 lect='yes' icon='ue85b' font='entypo-fontello' color='custom' custom_bg='#b
 5123e' custom_font='#ffffff' av_uid='' id='' custom_class='' admin_preview_
 bg='']</p>
CATEGORIES:Recht interdisziplinär
LOCATION:Ausland
GEO:0.000000;0.000000
ORGANIZER;CN="ViFa-Recht":MAILTO:vifa-recht@sbb.spk-berlin.de
URL;VALUE=URI:https://events.intrecht.de/termine/termin/exploring-the-auton
 omy-of-cities-philosophical-legal-and-policy-dimensions-workshop/
END:VEVENT
BEGIN:VTIMEZONE
TZID:Europe/Berlin
BEGIN:DAYLIGHT
TZOFFSETFROM:+0100
TZOFFSETTO:+0200
DTSTART:20250330T010000
TZNAME:CEST
END:DAYLIGHT
END:VTIMEZONE
END:VCALENDAR
