BEGIN:VCALENDAR
VERSION:2.0
PRODID:-//Events | FID-Recht//NONSGML Events//EN
CALSCALE:GREGORIAN
X-ORIGINAL-URL:https://events.intrecht.de/termine/
X-WR-CALDESC:Events | FID-Recht - Events
BEGIN:VEVENT
UID:20200603T1418Z-1591193923.3362-EO-587-1@172.16.200.141
STATUS:CONFIRMED
DTSTAMP:20260425T183037Z
CREATED:20230419T095456Z
LAST-MODIFIED:20230419T095456Z
DTSTART;VALUE=DATE:20230926
DTEND;VALUE=DATE:20230927
SUMMARY: Exploring Linkages between Rule of Law Backsliding and Human Right
 s: How to Find the Brakes on A Slippery Slope? (International workshop)
DESCRIPTION: 26.9.2023 / Utrecht (Frist für Einreichungen: 15.5.2023) https
 ://www.uu.nl/sites/default/files/rebo-montaigne-sim-Call%20for%20Abstracts-
 workshop-Rule%20of%20law%20and%20human%20rights%20backsliding-septemer-2023
 .pdf
X-ALT-DESC;FMTTYPE=text/html: <p>26.9.2023 / Utrecht <strong>(Frist für Ein
 reichungen: 15.5.2023)</strong></p><p><a href="https://www.uu.nl/sites/defa
 ult/files/rebo-montaigne-sim-Call%20for%20Abstracts-workshop-Rule%20of%20la
 w%20and%20human%20rights%20backsliding-septemer-2023.pdf">https://www.uu.nl
 /sites/default/files/rebo-montaigne-sim-Call%20for%20Abstracts-workshop-Rul
 e%20of%20law%20and%20human%20rights%20backsliding-septemer-2023.pdf</a></p>
 <p>[av_button label='iCal-Export' link='./feed/eo-events' link_target='' si
 ze='small' position='center' label_display='' title_attr='' icon_select='ye
 s' icon='ue85b' font='entypo-fontello' color='custom' custom_bg='#b5123e' c
 ustom_font='#ffffff' av_uid='' id='' custom_class='' admin_preview_bg='']</
 p>
CATEGORIES:Europäisches / Internationales Recht
LOCATION:Ausland
GEO:0.000000;0.000000
ORGANIZER;CN="ViFa-Recht":MAILTO:vifa-recht@sbb.spk-berlin.de
URL;VALUE=URI:https://events.intrecht.de/termine/termin/exploring-linkages-
 between-rule-of-law-backsliding-and-human-rights-how-to-find-the-brakes-on-
 a-slippery-slope-international-workshop/
END:VEVENT
BEGIN:VTIMEZONE
TZID:Europe/Berlin
BEGIN:DAYLIGHT
TZOFFSETFROM:+0100
TZOFFSETTO:+0200
DTSTART:20230326T010000
TZNAME:CEST
END:DAYLIGHT
END:VTIMEZONE
END:VCALENDAR
