BEGIN:VCALENDAR
VERSION:2.0
PRODID:-//Events | FID-Recht//NONSGML Events//EN
CALSCALE:GREGORIAN
X-ORIGINAL-URL:https://events.intrecht.de/termine/
X-WR-CALDESC:Events | FID-Recht - Events
BEGIN:VEVENT
UID:20200603T1418Z-1591193923.3362-EO-587-1@172.16.200.141
STATUS:CONFIRMED
DTSTAMP:20260422T141615Z
CREATED:20240523T163247Z
LAST-MODIFIED:20240523T163247Z
DTSTART;VALUE=DATE:20240608
DTEND;VALUE=DATE:20240609
SUMMARY: Expanding Human Rights Protection to Non-Human Subjects? Animals\,
  Nature\, Corporations and Robots as (Potential) Human Rights Subjects (Hyb
 rid Event)
DESCRIPTION: 8.6.2024 / Online und Nürnberg https://www.oer3.rw.fau.de/conf
 erence/#collapse_1
X-ALT-DESC;FMTTYPE=text/html: <p>8.6.2024 / Online und Nürnberg</p><p><a hr
 ef="https://www.oer3.rw.fau.de/conference/#collapse_1">https://www.oer3.rw.
 fau.de/conference/#collapse_1</a></p><p>[av_button label='iCal-Export' link
 ='./feed/eo-events' link_target='' size='small' position='center' label_dis
 play='' title_attr='' icon_select='yes' icon='ue85b' font='entypo-fontello'
  color='custom' custom_bg='#b5123e' custom_font='#ffffff' av_uid='' id='' c
 ustom_class='' admin_preview_bg='']</p>
CATEGORIES:Europäisches / Internationales Recht
LOCATION:Hybrid
GEO:0.000000;0.000000
ORGANIZER;CN="ViFa-Recht":MAILTO:vifa-recht@sbb.spk-berlin.de
URL;VALUE=URI:https://events.intrecht.de/termine/termin/expanding-human-rig
 hts-protection-to-non-human-subjects-animals-nature-corporations-and-robots
 -as-potential-human-rights-subjects-hybrid-event/
END:VEVENT
BEGIN:VTIMEZONE
TZID:Europe/Berlin
BEGIN:DAYLIGHT
TZOFFSETFROM:+0100
TZOFFSETTO:+0200
DTSTART:20240331T010000
TZNAME:CEST
END:DAYLIGHT
END:VTIMEZONE
END:VCALENDAR
