BEGIN:VCALENDAR
VERSION:2.0
PRODID:-//Events | FID-Recht//NONSGML Events//EN
CALSCALE:GREGORIAN
X-ORIGINAL-URL:https://events.intrecht.de/termine/
X-WR-CALDESC:Events | FID-Recht - Events
BEGIN:VEVENT
UID:20200603T1418Z-1591193923.3362-EO-587-1@172.16.200.141
STATUS:CONFIRMED
DTSTAMP:20260425T164755Z
CREATED:20230307T151746Z
LAST-MODIFIED:20230307T151746Z
DTSTART;VALUE=DATE:20230315
DTEND;VALUE=DATE:20230316
SUMMARY: Europe’s new strategic map\, one year after the ‚Zeitenwende‘ (Vor
 trag)
DESCRIPTION: 15.3.2023 / Berlin https://www.hertie-school.org/en/events/eve
 nt-detail/event/europes-new-strategic-map-one-year-after-the-zeitenwende
X-ALT-DESC;FMTTYPE=text/html: <p>15.3.2023 / Berlin</p><p><a href="https://
 www.hertie-school.org/en/events/event-detail/event/europes-new-strategic-ma
 p-one-year-after-the-zeitenwende">https://www.hertie-school.org/en/events/e
 vent-detail/event/europes-new-strategic-map-one-year-after-the-zeitenwende<
 /a></p><p>[av_button label='iCal-Export' link='./feed/eo-events' link_targe
 t='' size='small' position='center' label_display='' title_attr='' icon_sel
 ect='yes' icon='ue85b' font='entypo-fontello' color='custom' custom_bg='#b5
 123e' custom_font='#ffffff' av_uid='' id='' custom_class='' admin_preview_b
 g='']</p>
CATEGORIES:Recht interdisziplinär
LOCATION:Inland
GEO:0.000000;0.000000
ORGANIZER;CN="ViFa-Recht":MAILTO:vifa-recht@sbb.spk-berlin.de
URL;VALUE=URI:https://events.intrecht.de/termine/termin/europes-new-strateg
 ic-map-one-year-after-the-zeitenwende-vortrag/
END:VEVENT
BEGIN:VTIMEZONE
TZID:Europe/Berlin
BEGIN:STANDARD
TZOFFSETFROM:+0200
TZOFFSETTO:+0100
DTSTART:20221030T010000
TZNAME:CET
END:STANDARD
END:VTIMEZONE
END:VCALENDAR
