BEGIN:VCALENDAR
VERSION:2.0
PRODID:-//Events | FID-Recht//NONSGML Events//EN
CALSCALE:GREGORIAN
X-ORIGINAL-URL:https://events.intrecht.de/termine/
X-WR-CALDESC:Events | FID-Recht - Events
BEGIN:VEVENT
UID:20220320T0645Z-1647758725.8627-EO-5289-1@172.16.200.141
STATUS:CONFIRMED
DTSTAMP:20260422T092928Z
CREATED:20220316T201251Z
LAST-MODIFIED:20220316T201251Z
DTSTART;VALUE=DATE:20220629
DTEND;VALUE=DATE:20220702
SUMMARY: European Society of Comparative Legal History (ESCLH) Conference
DESCRIPTION: 29.6.-1.7.2022\, Lissabon http://esclh.blogspot.com/2021/03/es
 clh-conference-2020-lisbon-message.html  
X-ALT-DESC;FMTTYPE=text/html: <p>29.6.-1.7.2022\, Lissabon</p><p><a href="h
 ttp://esclh.blogspot.com/2021/03/esclh-conference-2020-lisbon-message.html"
 >http://esclh.blogspot.com/2021/03/esclh-conference-2020-lisbon-message.htm
 l</a></p><p> </p><p>[av_button label='iCal-Export' link='./feed/eo-events' 
 link_target='' size='small' position='center' label_display='' title_attr='
 ' icon_select='yes' icon='ue85b' font='entypo-fontello' color='custom' cust
 om_bg='#b5123e' custom_font='#ffffff' av_uid='' id='' custom_class='' admin
 _preview_bg='']</p>
CATEGORIES:Recht interdisziplinär
LOCATION:Ausland
GEO:0.000000;0.000000
ORGANIZER;CN="ViFa-Recht":MAILTO:vifa-recht@sbb.spk-berlin.de
URL;VALUE=URI:https://events.intrecht.de/termine/termin/european-society-of
 -comparative-legal-history-esclh-conference/
END:VEVENT
BEGIN:VTIMEZONE
TZID:Europe/Berlin
BEGIN:DAYLIGHT
TZOFFSETFROM:+0100
TZOFFSETTO:+0200
DTSTART:20220327T010000
TZNAME:CEST
END:DAYLIGHT
END:VTIMEZONE
END:VCALENDAR
