BEGIN:VCALENDAR
VERSION:2.0
PRODID:-//Events | FID-Recht//NONSGML Events//EN
CALSCALE:GREGORIAN
X-ORIGINAL-URL:https://events.intrecht.de/termine/
X-WR-CALDESC:Events | FID-Recht - Events
BEGIN:VEVENT
UID:20200603T1418Z-1591193923.3362-EO-587-1@172.16.200.141
STATUS:CONFIRMED
DTSTAMP:20260423T020039Z
CREATED:20240223T134300Z
LAST-MODIFIED:20240223T134300Z
DTSTART;VALUE=DATE:20240828
DTEND;VALUE=DATE:20240830
SUMMARY: European responses to global crises (DynamInt Doctoral Conference 
 2024)
DESCRIPTION: 28.-29.8.2024 / Amsterdam (Einreichungsfrist: 15.4.2024) https
 ://conflictoflaws.net/2024/european-responses-to-global-crises-call-for-sub
 missions-for-dynamint-doctoral-conference-2024/?print=pdf
X-ALT-DESC;FMTTYPE=text/html: <p>28.-29.8.2024 / Amsterdam <strong>(Einreic
 hungsfrist: 15.4.2024)</strong></p><p><a href="https://conflictoflaws.net/2
 024/european-responses-to-global-crises-call-for-submissions-for-dynamint-d
 octoral-conference-2024/?print=pdf">https://conflictoflaws.net/2024/europea
 n-responses-to-global-crises-call-for-submissions-for-dynamint-doctoral-con
 ference-2024/?print=pdf</a></p><p>[av_button label='iCal-Export' link='./fe
 ed/eo-events' link_target='' size='small' position='center' label_display='
 ' title_attr='' icon_select='yes' icon='ue85b' font='entypo-fontello' color
 ='custom' custom_bg='#b5123e' custom_font='#ffffff' av_uid='' id='' custom_
 class='' admin_preview_bg='']</p>
CATEGORIES:Europäisches / Internationales Recht
LOCATION:Ausland
GEO:0.000000;0.000000
ORGANIZER;CN="ViFa-Recht":MAILTO:vifa-recht@sbb.spk-berlin.de
URL;VALUE=URI:https://events.intrecht.de/termine/termin/european-responses-
 to-global-crises-dynamint-doctoral-conference-2024/
END:VEVENT
BEGIN:VTIMEZONE
TZID:Europe/Berlin
BEGIN:DAYLIGHT
TZOFFSETFROM:+0100
TZOFFSETTO:+0200
DTSTART:20240331T010000
TZNAME:CEST
END:DAYLIGHT
END:VTIMEZONE
END:VCALENDAR
