BEGIN:VCALENDAR
VERSION:2.0
PRODID:-//Events | FID-Recht//NONSGML Events//EN
CALSCALE:GREGORIAN
X-ORIGINAL-URL:https://events.intrecht.de/termine/
X-WR-CALDESC:Events | FID-Recht - Events
BEGIN:VEVENT
UID:20221105T0325Z-1667618722.7215-EO-6898-1@172.16.200.151
STATUS:CONFIRMED
DTSTAMP:20260421T151829Z
CREATED:20221101T075906Z
LAST-MODIFIED:20221101T075906Z
DTSTART;VALUE=DATE:20221109
DTEND;VALUE=DATE:20221113
SUMMARY: European Public Health Conference (Tagung)
DESCRIPTION: 9.-12.11.2022 / Berlin https://idw-online.de/en/news803829  
X-ALT-DESC;FMTTYPE=text/html: <p>9.-12.11.2022 / Berlin</p><p><a href="http
 s://idw-online.de/en/news803829">https://idw-online.de/en/news803829</a></p
 ><p> </p><p>[av_button label='iCal-Export' link='./feed/eo-events' link_tar
 get='' size='small' position='center' label_display='' title_attr='' icon_s
 elect='yes' icon='ue85b' font='entypo-fontello' color='custom' custom_bg='#
 b5123e' custom_font='#ffffff' av_uid='' id='' custom_class='' admin_preview
 _bg='']</p>
CATEGORIES:Recht interdisziplinär
LOCATION:Inland
GEO:0.000000;0.000000
ORGANIZER;CN="ViFa-Recht":MAILTO:vifa-recht@sbb.spk-berlin.de
URL;VALUE=URI:https://events.intrecht.de/termine/termin/european-public-hea
 lth-conference-tagung/
END:VEVENT
BEGIN:VTIMEZONE
TZID:Europe/Berlin
BEGIN:STANDARD
TZOFFSETFROM:+0200
TZOFFSETTO:+0100
DTSTART:20221030T010000
TZNAME:CET
END:STANDARD
END:VTIMEZONE
END:VCALENDAR
