BEGIN:VCALENDAR
VERSION:2.0
PRODID:-//Events | FID-Recht//NONSGML Events//EN
CALSCALE:GREGORIAN
X-ORIGINAL-URL:https://events.intrecht.de/termine/
X-WR-CALDESC:Events | FID-Recht - Events
BEGIN:VEVENT
UID:20200603T1418Z-1591193923.3362-EO-587-1@172.16.200.141
STATUS:CONFIRMED
DTSTAMP:20260423T035126Z
CREATED:20250407T143504Z
LAST-MODIFIED:20250407T143504Z
DTSTART;VALUE=DATE:20250925
DTEND;VALUE=DATE:20250928
SUMMARY: European Law Unbound: What Kind of Europe Can We Reach For? (Confe
 rence)
DESCRIPTION: 25.-27.9.2025 / Prag (Einreichungsfrist: 15.4.2025) https://eu
 ropeanlawunbound.eu/call-for-panels-and-papers/
X-ALT-DESC;FMTTYPE=text/html: <p>25.-27.9.2025 / Prag <strong>(Einreichungs
 frist: 15.4.2025)</strong></p><p><a href="https://europeanlawunbound.eu/cal
 l-for-panels-and-papers/">https://europeanlawunbound.eu/call-for-panels-and
 -papers/</a></p><p>[av_button label='iCal-Export' link='./feed/eo-events' l
 ink_target='' size='small' position='center' label_display='' title_attr=''
  icon_select='yes' icon='ue85b' font='entypo-fontello' color='custom' custo
 m_bg='#b5123e' custom_font='#ffffff' av_uid='' id='' custom_class='' admin_
 preview_bg='']</p>
CATEGORIES:Europäisches / Internationales Recht
LOCATION:Ausland
GEO:0.000000;0.000000
ORGANIZER;CN="ViFa-Recht":MAILTO:vifa-recht@sbb.spk-berlin.de
URL;VALUE=URI:https://events.intrecht.de/termine/termin/european-law-unboun
 d-what-kind-of-europe-can-we-reach-for-conference/
END:VEVENT
BEGIN:VTIMEZONE
TZID:Europe/Berlin
BEGIN:DAYLIGHT
TZOFFSETFROM:+0100
TZOFFSETTO:+0200
DTSTART:20250330T010000
TZNAME:CEST
END:DAYLIGHT
END:VTIMEZONE
END:VCALENDAR
