BEGIN:VCALENDAR
VERSION:2.0
PRODID:-//Events | FID-Recht//NONSGML Events//EN
CALSCALE:GREGORIAN
X-ORIGINAL-URL:https://events.intrecht.de/termine/
X-WR-CALDESC:Events | FID-Recht - Events
BEGIN:VEVENT
UID:20200603T1418Z-1591193923.3362-EO-587-1@172.16.200.141
STATUS:CONFIRMED
DTSTAMP:20260425T213641Z
CREATED:20230427T102638Z
LAST-MODIFIED:20230427T102638Z
DTSTART;VALUE=DATE:20230906
DTEND;VALUE=DATE:20230908
SUMMARY: European Law School PhD Workshop – Sovereignty and the European Un
 ion
DESCRIPTION: 6.-7.9.2023 / London (Frist für Einreichungen: 15.6.2023) http
 s://www.rewi.hu-berlin.de/de/lf/oe/rhp/veranstaltungen/european-law-school-
 phd-workshop-2023
X-ALT-DESC;FMTTYPE=text/html: <p>6.-7.9.2023 / London <strong>(Frist für Ei
 nreichungen: 15.6.2023)</strong></p><p><a href="https://www.rewi.hu-berlin.
 de/de/lf/oe/rhp/veranstaltungen/european-law-school-phd-workshop-2023">http
 s://www.rewi.hu-berlin.de/de/lf/oe/rhp/veranstaltungen/european-law-school-
 phd-workshop-2023</a></p><p>[av_button label='iCal-Export' link='./feed/eo-
 events' link_target='' size='small' position='center' label_display='' titl
 e_attr='' icon_select='yes' icon='ue85b' font='entypo-fontello' color='cust
 om' custom_bg='#b5123e' custom_font='#ffffff' av_uid='' id='' custom_class=
 '' admin_preview_bg='']</p>
CATEGORIES:Europäisches / Internationales Recht
LOCATION:Ausland
GEO:0.000000;0.000000
ORGANIZER;CN="ViFa-Recht":MAILTO:vifa-recht@sbb.spk-berlin.de
URL;VALUE=URI:https://events.intrecht.de/termine/termin/european-law-school
 -phd-workshop-sovereignty-and-the-european-union/
END:VEVENT
BEGIN:VTIMEZONE
TZID:Europe/Berlin
BEGIN:DAYLIGHT
TZOFFSETFROM:+0100
TZOFFSETTO:+0200
DTSTART:20230326T010000
TZNAME:CEST
END:DAYLIGHT
END:VTIMEZONE
END:VCALENDAR
