BEGIN:VCALENDAR
VERSION:2.0
PRODID:-//Events | FID-Recht//NONSGML Events//EN
CALSCALE:GREGORIAN
X-ORIGINAL-URL:https://events.intrecht.de/termine/
X-WR-CALDESC:Events | FID-Recht - Events
BEGIN:VEVENT
UID:20200603T1418Z-1591193923.3362-EO-587-1@172.16.200.141
STATUS:CONFIRMED
DTSTAMP:20260422T204620Z
CREATED:20240214T105406Z
LAST-MODIFIED:20240214T105453Z
DTSTART;VALUE=DATE:20240602
DTEND;VALUE=DATE:20240609
SUMMARY: European Institute of Social Security Young Researchers School 202
 4
DESCRIPTION: 2.-8.6.2024 / Spetses (Einreichungsfrist: 10.3.2024) https://e
 iss.be/training%20and%20education/yrs-2024.html
X-ALT-DESC;FMTTYPE=text/html: <p>2.-8.6.2024 / Spetses <strong>(Einreichung
 sfrist: 10.3.2024)</strong></p><p><a href="https://eiss.be/training%20and%2
 0education/yrs-2024.html">https://eiss.be/training%20and%20education/yrs-20
 24.html</a></p><p>[av_button label='iCal-Export' link='./feed/eo-events' li
 nk_target='' size='small' position='center' label_display='' title_attr='' 
 icon_select='yes' icon='ue85b' font='entypo-fontello' color='custom' custom
 _bg='#b5123e' custom_font='#ffffff' av_uid='' id='' custom_class='' admin_p
 review_bg='']</p>
CATEGORIES:Europäisches / Internationales Recht
LOCATION:Ausland
GEO:0.000000;0.000000
ORGANIZER;CN="ViFa-Recht":MAILTO:vifa-recht@sbb.spk-berlin.de
URL;VALUE=URI:https://events.intrecht.de/termine/termin/european-institute-
 of-social-security-young-researchers-school-2024/
END:VEVENT
BEGIN:VTIMEZONE
TZID:Europe/Berlin
BEGIN:DAYLIGHT
TZOFFSETFROM:+0100
TZOFFSETTO:+0200
DTSTART:20240331T010000
TZNAME:CEST
END:DAYLIGHT
END:VTIMEZONE
END:VCALENDAR
