BEGIN:VCALENDAR
VERSION:2.0
PRODID:-//Events | FID-Recht//NONSGML Events//EN
CALSCALE:GREGORIAN
X-ORIGINAL-URL:https://events.intrecht.de/termine/
X-WR-CALDESC:Events | FID-Recht - Events
BEGIN:VEVENT
UID:20200603T1418Z-1591193923.3362-EO-587-1@172.16.200.141
STATUS:CONFIRMED
DTSTAMP:20260425T233126Z
CREATED:20230718T145227Z
LAST-MODIFIED:20230718T145227Z
DTSTART;VALUE=DATE:20230928
DTEND;VALUE=DATE:20230930
SUMMARY: European Human Rights Law Conference 2023: Human Rights Law: Prosp
 ects\, Possibilities\, Fears and Limitations
DESCRIPTION: 28.-29.9.2023 / Cambridge https://www.cpl.law.cam.ac.uk/europe
 an-human-rights-law-conference-2023
X-ALT-DESC;FMTTYPE=text/html: <p>28.-29.9.2023 / Cambridge</p><p><a href="h
 ttps://www.cpl.law.cam.ac.uk/european-human-rights-law-conference-2023">htt
 ps://www.cpl.law.cam.ac.uk/european-human-rights-law-conference-2023</a></p
 ><p>[av_button label='iCal-Export' link='./feed/eo-events' link_target='' s
 ize='small' position='center' label_display='' title_attr='' icon_select='y
 es' icon='ue85b' font='entypo-fontello' color='custom' custom_bg='#b5123e' 
 custom_font='#ffffff' av_uid='' id='' custom_class='' admin_preview_bg='']<
 /p>
CATEGORIES:Europäisches / Internationales Recht
LOCATION:Ausland
GEO:0.000000;0.000000
ORGANIZER;CN="ViFa-Recht":MAILTO:vifa-recht@sbb.spk-berlin.de
URL;VALUE=URI:https://events.intrecht.de/termine/termin/european-human-righ
 ts-law-conference-2023-human-rights-law-prospects-possibilities-fears-and-l
 imitations/
END:VEVENT
BEGIN:VTIMEZONE
TZID:Europe/Berlin
BEGIN:DAYLIGHT
TZOFFSETFROM:+0100
TZOFFSETTO:+0200
DTSTART:20230326T010000
TZNAME:CEST
END:DAYLIGHT
END:VTIMEZONE
END:VCALENDAR
