BEGIN:VCALENDAR
VERSION:2.0
PRODID:-//Events | FID-Recht//NONSGML Events//EN
CALSCALE:GREGORIAN
X-ORIGINAL-URL:https://events.intrecht.de/termine/
X-WR-CALDESC:Events | FID-Recht - Events
BEGIN:VEVENT
UID:20200603T1418Z-1591193923.3362-EO-587-1@172.16.200.141
STATUS:CONFIRMED
DTSTAMP:20260423T054443Z
CREATED:20230810T092246Z
LAST-MODIFIED:20230810T092246Z
DTSTART;VALUE=DATE:20230912
DTEND;VALUE=DATE:20230913
SUMMARY: European democracy – from 1848 to today (Öffentliche Veranstaltung
 )
DESCRIPTION: 12.9.2023 / Frankfurt am Main https://www.pariserplatzdialogue
 .eu/event/democracy/
X-ALT-DESC;FMTTYPE=text/html: <p>12.9.2023 / Frankfurt am Main</p><p><a hre
 f="https://www.pariserplatzdialogue.eu/event/democracy/">https://www.parise
 rplatzdialogue.eu/event/democracy/</a></p><p>[av_button label='iCal-Export'
  link='./feed/eo-events' link_target='' size='small' position='center' labe
 l_display='' title_attr='' icon_select='yes' icon='ue85b' font='entypo-font
 ello' color='custom' custom_bg='#b5123e' custom_font='#ffffff' av_uid='' id
 ='' custom_class='' admin_preview_bg='']</p>
CATEGORIES:Recht interdisziplinär
LOCATION:Inland
GEO:0.000000;0.000000
ORGANIZER;CN="ViFa-Recht":MAILTO:vifa-recht@sbb.spk-berlin.de
URL;VALUE=URI:https://events.intrecht.de/termine/termin/european-democracy-
 from-1848-to-today-oeffentliche-veranstaltung/
END:VEVENT
BEGIN:VTIMEZONE
TZID:Europe/Berlin
BEGIN:DAYLIGHT
TZOFFSETFROM:+0100
TZOFFSETTO:+0200
DTSTART:20230326T010000
TZNAME:CEST
END:DAYLIGHT
END:VTIMEZONE
END:VCALENDAR
