BEGIN:VCALENDAR
VERSION:2.0
PRODID:-//Events | FID-Recht//NONSGML Events//EN
CALSCALE:GREGORIAN
X-ORIGINAL-URL:https://events.intrecht.de/termine/
X-WR-CALDESC:Events | FID-Recht - Events
BEGIN:VEVENT
UID:20210430T1701Z-1619802112.1791-EO-3890-1@172.16.200.141
STATUS:CONFIRMED
DTSTAMP:20260420T113013Z
CREATED:20210427T092115Z
LAST-MODIFIED:20210427T092115Z
DTSTART;VALUE=DATE:20210414
DTEND;VALUE=DATE:20210414
SUMMARY: European Contract Law and the Creation of Norms (mit Geraint Howel
 ls und Pietro Sirena) (Online-Buchbesprechung)
DESCRIPTION: 14.4.2021\, Online https://www.mpipriv.de/events/27811/876696 
  
X-ALT-DESC;FMTTYPE=text/html: <p>14.4.2021\, Online</p><p><a href="https://
 www.mpipriv.de/events/27811/876696">https://www.mpipriv.de/events/27811/876
 696</a></p><p> </p><p>[av_button label='iCal-Export' link='./feed/eo-events
 ' link_target='' size='small' position='center' label_display='' title_attr
 ='' icon_select='yes' icon='ue85b' font='entypo-fontello' color='custom' cu
 stom_bg='#b5123e' custom_font='#ffffff' av_uid='' id='' custom_class='' adm
 in_preview_bg='']</p>
CATEGORIES:Europäisches / Internationales Recht
LOCATION:Online
GEO:0.000000;0.000000
ORGANIZER;CN="ViFa-Recht":MAILTO:vifa-recht@sbb.spk-berlin.de
URL;VALUE=URI:https://events.intrecht.de/termine/termin/european-contract-l
 aw-and-the-creation-of-norms-mit-geraint-howells-und-pietro-sirena-online-b
 uchbesprechung/
END:VEVENT
BEGIN:VTIMEZONE
TZID:Europe/Berlin
BEGIN:DAYLIGHT
TZOFFSETFROM:+0100
TZOFFSETTO:+0200
DTSTART:20210328T010000
TZNAME:CEST
END:DAYLIGHT
END:VTIMEZONE
END:VCALENDAR
