BEGIN:VCALENDAR
VERSION:2.0
PRODID:-//Events | FID-Recht//NONSGML Events//EN
CALSCALE:GREGORIAN
X-ORIGINAL-URL:https://events.intrecht.de/termine/
X-WR-CALDESC:Events | FID-Recht - Events
BEGIN:VEVENT
UID:20200603T1418Z-1591193923.3362-EO-587-1@172.16.200.141
STATUS:CONFIRMED
DTSTAMP:20260423T003150Z
CREATED:20241127T082800Z
LAST-MODIFIED:20241127T083142Z
DTSTART;VALUE=DATE:20241206
DTEND;VALUE=DATE:20241207
SUMMARY: European Agricultural Data Governance (Hybrid Conference)
DESCRIPTION: 6.12.2024 / Online und Freiburg https://uni-freiburg.de/jura-m
 edienrecht/european-agricultural-data-governance/
X-ALT-DESC;FMTTYPE=text/html: <p>6.12.2024 / Online und Freiburg</p><p><a h
 ref="https://uni-freiburg.de/jura-medienrecht/european-agricultural-data-go
 vernance/">https://uni-freiburg.de/jura-medienrecht/european-agricultural-d
 ata-governance/</a></p><p>[av_button label='iCal-Export' link='./feed/eo-ev
 ents' link_target='' size='small' position='center' label_display='' title_
 attr='' icon_select='yes' icon='ue85b' font='entypo-fontello' color='custom
 ' custom_bg='#b5123e' custom_font='#ffffff' av_uid='' id='' custom_class=''
  admin_preview_bg='']</p>
CATEGORIES:Europäisches / Internationales Recht
LOCATION:Hybrid
GEO:0.000000;0.000000
ORGANIZER;CN="ViFa-Recht":MAILTO:vifa-recht@sbb.spk-berlin.de
URL;VALUE=URI:https://events.intrecht.de/termine/termin/european-agricultur
 al-data-governance-hybrid-conference/
END:VEVENT
BEGIN:VTIMEZONE
TZID:Europe/Berlin
BEGIN:STANDARD
TZOFFSETFROM:+0200
TZOFFSETTO:+0100
DTSTART:20241027T010000
TZNAME:CET
END:STANDARD
END:VTIMEZONE
END:VCALENDAR
