BEGIN:VCALENDAR
VERSION:2.0
PRODID:-//Events | FID-Recht//NONSGML Events//EN
CALSCALE:GREGORIAN
X-ORIGINAL-URL:https://events.intrecht.de/termine/
X-WR-CALDESC:Events | FID-Recht - Events
BEGIN:VEVENT
UID:20200603T1418Z-1591193923.3362-EO-587-1@172.16.200.141
STATUS:CONFIRMED
DTSTAMP:20260422T071703Z
CREATED:20240119T173559Z
LAST-MODIFIED:20240119T173559Z
DTSTART;VALUE=DATE:20240607
DTEND;VALUE=DATE:20240609
SUMMARY: Europe Twenty Years after the 2004 Enlargement of the EU: Vices\, 
 Virtues\, and Future Challenges (Conference)
DESCRIPTION: 7.-8.6.2024 / Online und Krakau (Einreichungsfrist: 29.2.2024)
  https://wsmip.uj.edu.pl/documents/146913521/149034109/3rd+Nomos+Annual+Con
 ference+CFP/684b468b-bcc7-46af-8fc2-e5afddee5dd9
X-ALT-DESC;FMTTYPE=text/html: <p>7.-8.6.2024 / Online und Krakau <strong>(E
 inreichungsfrist: 29.2.2024)</strong></p><p><a href="https://wsmip.uj.edu.p
 l/documents/146913521/149034109/3rd+Nomos+Annual+Conference+CFP/684b468b-bc
 c7-46af-8fc2-e5afddee5dd9">https://wsmip.uj.edu.pl/documents/146913521/1490
 34109/3rd+Nomos+Annual+Conference+CFP/684b468b-bcc7-46af-8fc2-e5afddee5dd9<
 /a></p><p>[av_button label='iCal-Export' link='./feed/eo-events' link_targe
 t='' size='small' position='center' label_display='' title_attr='' icon_sel
 ect='yes' icon='ue85b' font='entypo-fontello' color='custom' custom_bg='#b5
 123e' custom_font='#ffffff' av_uid='' id='' custom_class='' admin_preview_b
 g='']</p>
CATEGORIES:Europäisches / Internationales Recht
LOCATION:Hybrid
GEO:0.000000;0.000000
ORGANIZER;CN="ViFa-Recht":MAILTO:vifa-recht@sbb.spk-berlin.de
URL;VALUE=URI:https://events.intrecht.de/termine/termin/europe-twenty-years
 -after-the-2004-enlargement-of-the-eu-vices-virtues-and-future-challenges-c
 onference/
END:VEVENT
BEGIN:VTIMEZONE
TZID:Europe/Berlin
BEGIN:DAYLIGHT
TZOFFSETFROM:+0100
TZOFFSETTO:+0200
DTSTART:20240331T010000
TZNAME:CEST
END:DAYLIGHT
END:VTIMEZONE
END:VCALENDAR
