BEGIN:VCALENDAR
VERSION:2.0
PRODID:-//Events | FID-Recht//NONSGML Events//EN
CALSCALE:GREGORIAN
X-ORIGINAL-URL:https://events.intrecht.de/termine/
X-WR-CALDESC:Events | FID-Recht - Events
BEGIN:VEVENT
UID:20200603T1418Z-1591193923.3362-EO-587-1@172.16.200.141
STATUS:CONFIRMED
DTSTAMP:20260423T003459Z
CREATED:20241212T150405Z
LAST-MODIFIED:20241212T150405Z
DTSTART;VALUE=DATE:20250515
DTEND;VALUE=DATE:20250517
SUMMARY: Europarechtsfreundlichkeit – Verfassungsrechtliche Strategien der 
 Öffnung für die europäische Integration in Deutschland\, Österreich und der
  Schweiz (Tagung)
DESCRIPTION: 15.-16.5.2025 / Zürich (Anmeldungsfrist: 30.4.2025) https://vo
 elkerrechtsblog.org/de/events/europarechtsfreundlichkeit/
X-ALT-DESC;FMTTYPE=text/html: <p>15.-16.5.2025 / Zürich <strong>(Anmeldungs
 frist: 30.4.2025)</strong></p><p><a href="https://voelkerrechtsblog.org/de/
 events/europarechtsfreundlichkeit/">https://voelkerrechtsblog.org/de/events
 /europarechtsfreundlichkeit/</a></p><p>[av_button label='iCal-Export' link=
 './feed/eo-events' link_target='' size='small' position='center' label_disp
 lay='' title_attr='' icon_select='yes' icon='ue85b' font='entypo-fontello' 
 color='custom' custom_bg='#b5123e' custom_font='#ffffff' av_uid='' id='' cu
 stom_class='' admin_preview_bg='']</p>
CATEGORIES:Europäisches / Internationales Recht
LOCATION:Ausland
GEO:0.000000;0.000000
ORGANIZER;CN="ViFa-Recht":MAILTO:vifa-recht@sbb.spk-berlin.de
URL;VALUE=URI:https://events.intrecht.de/termine/termin/europarechtsfreundl
 ichkeit-verfassungsrechtliche-strategien-der-oeffnung-fuer-die-europaeische
 -integration-in-deutschland-oesterreich-und-der-schweiz-tagung/
END:VEVENT
BEGIN:VTIMEZONE
TZID:Europe/Berlin
BEGIN:DAYLIGHT
TZOFFSETFROM:+0100
TZOFFSETTO:+0200
DTSTART:20250330T010000
TZNAME:CEST
END:DAYLIGHT
END:VTIMEZONE
END:VCALENDAR
