BEGIN:VCALENDAR
VERSION:2.0
PRODID:-//Events | FID-Recht//NONSGML Events//EN
CALSCALE:GREGORIAN
X-ORIGINAL-URL:https://events.intrecht.de/termine/
X-WR-CALDESC:Events | FID-Recht - Events
BEGIN:VEVENT
UID:20210302T1156Z-1614686185.647-EO-3468-1@172.16.200.141
STATUS:CONFIRMED
DTSTAMP:20260423T040903Z
CREATED:20210202T155558Z
LAST-MODIFIED:20210202T155558Z
DTSTART;VALUE=DATE:20210401
DTEND;VALUE=DATE:20210401
SUMMARY: Europäisierung des Prozessrechts – Konsolidierung oder Disruption?
  (7. Tagung Junger ProzessrechtswissenschaftlerInnen) (CfP)
DESCRIPTION: 9.-10.9.2021\, Luxemburg (Frist für Einreichungen: 1.4.2021) h
 ttp://www.mpi.lu/fileadmin/mpi/medien/research/7th_Conference_of_the_Young_
 German_Proceduralists/Call_for_Papers.pdf  
X-ALT-DESC;FMTTYPE=text/html: <p>9.-10.9.2021\, Luxemburg (Frist für Einrei
 chungen: 1.4.2021)</p><p><a href="http://www.mpi.lu/fileadmin/mpi/medien/re
 search/7th_Conference_of_the_Young_German_Proceduralists/Call_for_Papers.pd
 f">http://www.mpi.lu/fileadmin/mpi/medien/research/7th_Conference_of_the_Yo
 ung_German_Proceduralists/Call_for_Papers.pdf</a></p><p> </p><p>[av_button 
 label='iCal-Export' link='./feed/eo-events' link_target='' size='small' pos
 ition='center' label_display='' title_attr='' icon_select='yes' icon='ue85b
 ' font='entypo-fontello' color='custom' custom_bg='#b5123e' custom_font='#f
 fffff' av_uid='' id='' custom_class='' admin_preview_bg='']</p>
CATEGORIES:Europäisches / Internationales Recht,Öffentliches Recht,Strafrecht,Zivilrecht
LOCATION:Ausland
GEO:0.000000;0.000000
ORGANIZER;CN="ViFa-Recht":MAILTO:vifa-recht@sbb.spk-berlin.de
URL;VALUE=URI:https://events.intrecht.de/termine/termin/europaeisierung-des
 -prozessrechts-konsolidierung-oder-disruption-7-tagung-junger-prozessrechts
 wissenschaftlerinnen-cfp/
END:VEVENT
BEGIN:VTIMEZONE
TZID:Europe/Berlin
BEGIN:DAYLIGHT
TZOFFSETFROM:+0100
TZOFFSETTO:+0200
DTSTART:20210328T010000
TZNAME:CEST
END:DAYLIGHT
END:VTIMEZONE
END:VCALENDAR
